{"text_format":"1","workbook":"xlsx","n_sheets":2,"sheets":["Roster","Exclusions"],"not_rendered":{"charts":0,"images":0,"macros":1,"external_links":0,"defined_names":26,"comments":0,"pivot_tables":0},"unopened":[],"bounds":{"document_bytes":16777216,"sheet_cells":100000,"rows_first":2000,"rows_last":500,"rows_between":2000,"halvings":0,"cell_chars":16384,"cell_head_chars":4096},"cells_cut":0,"cells_raw":0,"read":"whole","date_system":"1900"}

{"sheet":"Roster","index":0,"n_rows":511,"n_cols":17,"rows_kept":511,"cut":false,"hidden":false,"merged":[[18,9,19,9],[18,10,19,10],[12,9,13,9],[12,10,13,10],[14,9,15,9],[14,10,15,10],[16,9,17,9],[16,10,17,10]]}
[null,"Student Name (Last and First)","Grade Level","Pre Test Score (# of Laps)","Post Test Score (# of Laps)","Improved?","Rate of Improvement","Adjusted Rate of Improvement","Score Counted for Data",null,null,null,"(1 or 0) Pretest Taken","(1 or 0) Post Test Taken","Took Pre and Post Test","Rating Counter","Goal Reached (by Grade Level)"]
[1,null,null,null,null,{"$f":"IF((Grade_Level=6)*AND(Post_Test>=Grade6),\"YES\",IF((Grade_Level=7)*AND(Post_Test>=Grade7),\"YES\",IF((Grade_Level=8)*AND(Post_Test>=Grade8),\"YES\",IF((Post_Test>Pre_Test),\"YES\",\"NO\"))))","v":"NO"},{"$f":"(Post_Test-Pre_Test)/Pre_Test","v":{"$error":"#DIV/0!"}},{"$f":"IF(((Grade_Level=6)*AND(Post_Test>=Grade6)*AND(Rate_of_Improvement<=0.5)),0.5,IF(((Grade_Level=7)*AND(Post_Test>=Grade7)*AND(Rate_of_Improvement<=0.5)),0.5,IF(((Grade_Level=8)*AND(Post_Test>=Grade8)*AND(Rate_of_Improvement<=0.5)),0.5,Rate_of_Improvement)))","v":{"$error":"#DIV/0!"}},"YES","Teacher",null,"YES",{"$f":"IF(Pre_Test>=0.01,1,0)","v":0},{"$f":"IF(Post_Test>=0.01,1,0)","v":0},{"$f":"Pre_Counter+Post_Counter","v":0},{"$f":"COUNTIFS(Adjusted_Rate_of_Improvement,\">=50%\",Counted?,\"=YES\")","v":0},35]
[2,null,null,null,null,"NO",{"$error":"#DIV/0!"},{"$error":"#DIV/0!"},"YES","Total Tested (Pre&Post)",{"$f":"COUNTIF(Pre_nd_Post_Counter,\"=2\")","v":0},"NO",0,0,0,{"$f":"COUNTIFS(Adjusted_Rate_of_Improvement,\">= 25%\",Counted?,\"=YES\")","v":0},40]
[3,null,null,null,null,"NO",{"$error":"#DIV/0!"},{"$error":"#DIV/0!"},"YES","Total Excluded",{"$f":"COUNTIF(Counted?, \"NO\")","v":0},null,0,0,0,null,45]
[4,null,null,null,null,"NO",{"$error":"#DIV/0!"},{"$error":"#DIV/0!"},"YES","Total Counted",{"$f":"Tested-Excluded","v":0},null,0,0,0]
[5,null,null,null,null,"NO",{"$error":"#DIV/0!"},{"$error":"#DIV/0!"},"YES","Total #  demonstrating Improvement",{"$f":"COUNTIFS(Improved?,\"=YES\",Counted?,\"=YES\")","v":0},null,0,0,0]
[6,null,null,null,null,"NO",{"$error":"#DIV/0!"},{"$error":"#DIV/0!"},"YES","Percentage demonstrating Improvement",{"$f":"Improved/Counted","v":{"$error":"#DIV/0!"}},null,0,0,0]
[7,null,null,null,null,"NO",{"$error":"#DIV/0!"},{"$error":"#DIV/0!"},"YES","Percentage of Improvement by 50% or more",{"$f":"Improved50/Improved","v":{"$error":"#DIV/0!"}},null,0,0,0]
[8,null,null,null,null,"NO",{"$error":"#DIV/0!"},{"$error":"#DIV/0!"},"YES","Percentage of Improvement by 25% or more  ",{"$f":"Improved25/Improved","v":{"$error":"#DIV/0!"}},null,0,0,0]
[9,null,null,null,null,"NO",{"$error":"#DIV/0!"},{"$error":"#DIV/0!"},"YES","Rating:",{"$f":"IF(AND(PImproved>=80%,PImproved50>=50%),\"HE\",IF(AND(PImproved>=80%,PImproved25>=25%),\"E\",IF(PImproved<67%,\"IE\",\"IN\")))","v":{"$error":"#DIV/0!"}},null,0,0,0]
[10,null,null,null,null,"NO",{"$error":"#DIV/0!"},{"$error":"#DIV/0!"},"YES",null,null,null,0,0,0]
[11,null,null,null,null,"NO",{"$error":"#DIV/0!"},{"$error":"#DIV/0!"},"YES",null,null,null,0,0,0]
[12,null,null,null,null,"NO",{"$error":"#DIV/0!"},{"$error":"#DIV/0!"},"YES","Highly Effective (HE):","80% or more students demonstrated improvement AND improved by at least 50%",null,0,0,0]
[13,null,null,null,null,"NO",{"$error":"#DIV/0!"},{"$error":"#DIV/0!"},"YES",null,null,null,0,0,0]
[14,null,null,null,null,"NO",{"$error":"#DIV/0!"},{"$error":"#DIV/0!"},"YES","Effective (E):","80% or more students demonstrated improvement AND improved by at least 25%",null,0,0,0]
[15,null,null,null,null,"NO",{"$error":"#DIV/0!"},{"$error":"#DIV/0!"},"YES",null,null,null,0,0,0]
[16,null,null,null,null,"NO",{"$error":"#DIV/0!"},{"$error":"#DIV/0!"},"YES","Improvement Necessary (IN):","67% or more of students demonstrated improvement",null,0,0,0]
[17,null,null,null,null,"NO",{"$error":"#DIV/0!"},{"$error":"#DIV/0!"},"YES",null,null,null,0,0,0]
[18,null,null,null,null,"NO",{"$error":"#DIV/0!"},{"$error":"#DIV/0!"},"YES","Ineffective (IE):","Less than 67% of students demonstrated improvement",null,0,0,0]
[19,null,null,null,null,"NO",{"$error":"#DIV/0!"},{"$error":"#DIV/0!"},"YES",null,null,null,0,0,0]
[20,null,null,null,null,"NO",{"$error":"#DIV/0!"},{"$error":"#DIV/0!"},"YES",null,null,null,0,0,0]
[21,null,null,null,null,"NO",{"$error":"#DIV/0!"},{"$error":"#DIV/0!"},"YES",null,null,null,0,0,0]
[22,null,null,null,null,"NO",{"$error":"#DIV/0!"},{"$error":"#DIV/0!"},"YES",null,null,null,0,0,0]
[23,null,null,null,null,"NO",{"$error":"#DIV/0!"},{"$error":"#DIV/0!"},"YES",null,null,null,0,0,0]
[24,null,null,null,null,"NO",{"$error":"#DIV/0!"},{"$error":"#DIV/0!"},"YES",null,null,null,0,0,0]
[25,null,null,null,null,"NO",{"$error":"#DIV/0!"},{"$error":"#DIV/0!"},"YES",null,null,null,0,0,0]
[26,null,null,null,null,"NO",{"$error":"#DIV/0!"},{"$error":"#DIV/0!"},"YES",null,null,null,0,0,0]
[27,null,null,null,null,"NO",{"$error":"#DIV/0!"},{"$error":"#DIV/0!"},"YES",null,null,null,0,0,0]
[28,null,null,null,null,"NO",{"$error":"#DIV/0!"},{"$error":"#DIV/0!"},"YES",null,null,null,0,0,0]
[29,null,null,null,null,"NO",{"$error":"#DIV/0!"},{"$error":"#DIV/0!"},"YES",null,null,null,0,0,0]
[30,null,null,null,null,"NO",{"$error":"#DIV/0!"},{"$error":"#DIV/0!"},"YES",null,null,null,0,0,0]
[31,null,null,null,null,"NO",{"$error":"#DIV/0!"},{"$error":"#DIV/0!"},"YES",null,null,null,0,0,0]
[32,null,null,null,null,"NO",{"$error":"#DIV/0!"},{"$error":"#DIV/0!"},"YES",null,null,null,0,0,0]
[33,null,null,null,null,"NO",{"$error":"#DIV/0!"},{"$error":"#DIV/0!"},"YES",null,null,null,0,0,0]
[34,null,null,null,null,"NO",{"$error":"#DIV/0!"},{"$error":"#DIV/0!"},"YES",null,null,null,0,0,0]
[35,null,null,null,null,"NO",{"$error":"#DIV/0!"},{"$error":"#DIV/0!"},"YES",null,null,null,0,0,0]
[36,null,null,null,null,"NO",{"$error":"#DIV/0!"},{"$error":"#DIV/0!"},"YES",null,null,null,0,0,0]
[37,null,null,null,null,"NO",{"$error":"#DIV/0!"},{"$error":"#DIV/0!"},"YES",null,null,null,0,0,0]
[38,null,null,null,null,"NO",{"$error":"#DIV/0!"},{"$error":"#DIV/0!"},"YES",null,null,null,0,0,0]
[39,null,null,null,null,"NO",{"$error":"#DIV/0!"},{"$error":"#DIV/0!"},"YES",null,null,null,0,0,0]
[40,null,null,null,null,"NO",{"$error":"#DIV/0!"},{"$error":"#DIV/0!"},"YES",null,null,null,0,0,0]
[41,null,null,null,null,"NO",{"$error":"#DIV/0!"},{"$error":"#DIV/0!"},"YES",null,null,null,0,0,0]
[42,null,null,null,null,"NO",{"$error":"#DIV/0!"},{"$error":"#DIV/0!"},"YES",null,null,null,0,0,0]
[43,null,null,null,null,"NO",{"$error":"#DIV/0!"},{"$error":"#DIV/0!"},"YES",null,null,null,0,0,0]
[44,null,null,null,null,"NO",{"$error":"#DIV/0!"},{"$error":"#DIV/0!"},"YES",null,null,null,0,0,0]
[45,null,null,null,null,"NO",{"$error":"#DIV/0!"},{"$error":"#DIV/0!"},"YES",null,null,null,0,0,0]
[46,null,null,null,null,"NO",{"$error":"#DIV/0!"},{"$error":"#DIV/0!"},"YES",null,null,null,0,0,0]
[47,null,null,null,null,"NO",{"$error":"#DIV/0!"},{"$error":"#DIV/0!"},"YES",null,null,null,0,0,0]
[48,null,null,null,null,"NO",{"$error":"#DIV/0!"},{"$error":"#DIV/0!"},"YES",null,null,null,0,0,0]
[49,null,null,null,null,"NO",{"$error":"#DIV/0!"},{"$error":"#DIV/0!"},"YES",null,null,null,0,0,0]
[50,null,null,null,null,"NO",{"$error":"#DIV/0!"},{"$error":"#DIV/0!"},"YES",null,null,null,0,0,0]
[51,null,null,null,null,"NO",{"$error":"#DIV/0!"},{"$error":"#DIV/0!"},"YES",null,null,null,0,0,0]
[52,null,null,null,null,"NO",{"$error":"#DIV/0!"},{"$error":"#DIV/0!"},"YES",null,null,null,0,0,0]
[53,null,null,null,null,"NO",{"$error":"#DIV/0!"},{"$error":"#DIV/0!"},"YES",null,null,null,0,0,0]
[54,null,null,null,null,"NO",{"$error":"#DIV/0!"},{"$error":"#DIV/0!"},"YES",null,null,null,0,0,0]
[55,null,null,null,null,"NO",{"$error":"#DIV/0!"},{"$error":"#DIV/0!"},"YES",null,null,null,0,0,0]
[56,null,null,null,null,"NO",{"$error":"#DIV/0!"},{"$error":"#DIV/0!"},"YES",null,null,null,0,0,0]
[57,null,null,null,null,"NO",{"$error":"#DIV/0!"},{"$error":"#DIV/0!"},"YES",null,null,null,0,0,0]
[58,null,null,null,null,"NO",{"$error":"#DIV/0!"},{"$error":"#DIV/0!"},"YES",null,null,null,0,0,0]
[59,null,null,null,null,"NO",{"$error":"#DIV/0!"},{"$error":"#DIV/0!"},"YES",null,null,null,0,0,0]
[60,null,null,null,null,"NO",{"$error":"#DIV/0!"},{"$error":"#DIV/0!"},"YES",null,null,null,0,0,0]
[61,null,null,null,null,"NO",{"$error":"#DIV/0!"},{"$error":"#DIV/0!"},"YES",null,null,null,0,0,0]
[62,null,null,null,null,"NO",{"$error":"#DIV/0!"},{"$error":"#DIV/0!"},"YES",null,null,null,0,0,0]
[63,null,null,null,null,"NO",{"$error":"#DIV/0!"},{"$error":"#DIV/0!"},"YES",null,null,null,0,0,0]
[64,null,null,null,null,"NO",{"$error":"#DIV/0!"},{"$error":"#DIV/0!"},"YES",null,null,null,0,0,0]
[65,null,null,null,null,{"$f":"IF((Grade_Level=6)*AND(Post_Test>=Grade6),\"YES\",IF((Grade_Level=7)*AND(Post_Test>=Grade7),\"YES\",IF((Grade_Level=8)*AND(Post_Test>=Grade8),\"YES\",IF((Post_Test>Pre_Test),\"YES\",\"NO\"))))","v":"NO"},{"$f":"(Post_Test-Pre_Test)/Pre_Test","v":{"$error":"#DIV/0!"}},{"$f":"IF(((Grade_Level=6)*AND(Post_Test>=Grade6)*AND(Rate_of_Improvement<=0.5)),0.5,IF(((Grade_Level=7)*AND(Post_Test>=Grade7)*AND(Rate_of_Improvement<=0.5)),0.5,IF(((Grade_Level=8)*AND(Post_Test>=Grade8)*AND(Rate_of_Improvement<=0.5)),0.5,Rate_of_Improvement)))","v":{"$error":"#DIV/0!"}},"YES",null,null,null,{"$f":"IF(Pre_Test>=0.01,1,0)","v":0},{"$f":"IF(Post_Test>=0.01,1,0)","v":0},{"$f":"Pre_Counter+Post_Counter","v":0}]
[66,null,null,null,null,"NO",{"$error":"#DIV/0!"},{"$error":"#DIV/0!"},"YES",null,null,null,0,0,0]
[67,null,null,null,null,"NO",{"$error":"#DIV/0!"},{"$error":"#DIV/0!"},"YES",null,null,null,0,0,0]
[68,null,null,null,null,"NO",{"$error":"#DIV/0!"},{"$error":"#DIV/0!"},"YES",null,null,null,0,0,0]
[69,null,null,null,null,"NO",{"$error":"#DIV/0!"},{"$error":"#DIV/0!"},"YES",null,null,null,0,0,0]
[70,null,null,null,null,"NO",{"$error":"#DIV/0!"},{"$error":"#DIV/0!"},"YES",null,null,null,0,0,0]
[71,null,null,null,null,"NO",{"$error":"#DIV/0!"},{"$error":"#DIV/0!"},"YES",null,null,null,0,0,0]
[72,null,null,null,null,"NO",{"$error":"#DIV/0!"},{"$error":"#DIV/0!"},"YES",null,null,null,0,0,0]
[73,null,null,null,null,"NO",{"$error":"#DIV/0!"},{"$error":"#DIV/0!"},"YES",null,null,null,0,0,0]
[74,null,null,null,null,"NO",{"$error":"#DIV/0!"},{"$error":"#DIV/0!"},"YES",null,null,null,0,0,0]
[75,null,null,null,null,"NO",{"$error":"#DIV/0!"},{"$error":"#DIV/0!"},"YES",null,null,null,0,0,0]
[76,null,null,null,null,"NO",{"$error":"#DIV/0!"},{"$error":"#DIV/0!"},"YES",null,null,null,0,0,0]
[77,null,null,null,null,"NO",{"$error":"#DIV/0!"},{"$error":"#DIV/0!"},"YES",null,null,null,0,0,0]
[78,null,null,null,null,"NO",{"$error":"#DIV/0!"},{"$error":"#DIV/0!"},"YES",null,null,null,0,0,0]
[79,null,null,null,null,"NO",{"$error":"#DIV/0!"},{"$error":"#DIV/0!"},"YES",null,null,null,0,0,0]
[80,null,null,null,null,"NO",{"$error":"#DIV/0!"},{"$error":"#DIV/0!"},"YES",null,null,null,0,0,0]
[81,null,null,null,null,"NO",{"$error":"#DIV/0!"},{"$error":"#DIV/0!"},"YES",null,null,null,0,0,0]
[82,null,null,null,null,"NO",{"$error":"#DIV/0!"},{"$error":"#DIV/0!"},"YES",null,null,null,0,0,0]
[83,null,null,null,null,"NO",{"$error":"#DIV/0!"},{"$error":"#DIV/0!"},"YES",null,null,null,0,0,0]
[84,null,null,null,null,"NO",{"$error":"#DIV/0!"},{"$error":"#DIV/0!"},"YES",null,null,null,0,0,0]
[85,null,null,null,null,"NO",{"$error":"#DIV/0!"},{"$error":"#DIV/0!"},"YES",null,null,null,0,0,0]
[86,null,null,null,null,"NO",{"$error":"#DIV/0!"},{"$error":"#DIV/0!"},"YES",null,null,null,0,0,0]
[87,null,null,null,null,"NO",{"$error":"#DIV/0!"},{"$error":"#DIV/0!"},"YES",null,null,null,0,0,0]
[88,null,null,null,null,"NO",{"$error":"#DIV/0!"},{"$error":"#DIV/0!"},"YES",null,null,null,0,0,0]
[89,null,null,null,null,"NO",{"$error":"#DIV/0!"},{"$error":"#DIV/0!"},"YES",null,null,null,0,0,0]
[90,null,null,null,null,"NO",{"$error":"#DIV/0!"},{"$error":"#DIV/0!"},"YES",null,null,null,0,0,0]
[91,null,null,null,null,"NO",{"$error":"#DIV/0!"},{"$error":"#DIV/0!"},"YES",null,null,null,0,0,0]
[92,null,null,null,null,"NO",{"$error":"#DIV/0!"},{"$error":"#DIV/0!"},"YES",null,null,null,0,0,0]
[93,null,null,null,null,"NO",{"$error":"#DIV/0!"},{"$error":"#DIV/0!"},"YES",null,null,null,0,0,0]
[94,null,null,null,null,"NO",{"$error":"#DIV/0!"},{"$error":"#DIV/0!"},"YES",null,null,null,0,0,0]
[95,null,null,null,null,"NO",{"$error":"#DIV/0!"},{"$error":"#DIV/0!"},"YES",null,null,null,0,0,0]
[96,null,null,null,null,"NO",{"$error":"#DIV/0!"},{"$error":"#DIV/0!"},"YES",null,null,null,0,0,0]
[97,null,null,null,null,"NO",{"$error":"#DIV/0!"},{"$error":"#DIV/0!"},"YES",null,null,null,0,0,0]
[98,null,null,null,null,"NO",{"$error":"#DIV/0!"},{"$error":"#DIV/0!"},"YES",null,null,null,0,0,0]
[99,null,null,null,null,"NO",{"$error":"#DIV/0!"},{"$error":"#DIV/0!"},"YES",null,null,null,0,0,0]
[100,null,null,null,null,"NO",{"$error":"#DIV/0!"},{"$error":"#DIV/0!"},"YES",null,null,null,0,0,0]
[101,null,null,null,null,"NO",{"$error":"#DIV/0!"},{"$error":"#DIV/0!"},"YES",null,null,null,0,0,0]
[102,null,null,null,null,"NO",{"$error":"#DIV/0!"},{"$error":"#DIV/0!"},"YES",null,null,null,0,0,0]
[103,null,null,null,null,"NO",{"$error":"#DIV/0!"},{"$error":"#DIV/0!"},"YES",null,null,null,0,0,0]
[104,null,null,null,null,"NO",{"$error":"#DIV/0!"},{"$error":"#DIV/0!"},"YES",null,null,null,0,0,0]
[105,null,null,null,null,"NO",{"$error":"#DIV/0!"},{"$error":"#DIV/0!"},"YES",null,null,null,0,0,0]
[106,null,null,null,null,"NO",{"$error":"#DIV/0!"},{"$error":"#DIV/0!"},"YES",null,null,null,0,0,0]
[107,null,null,null,null,"NO",{"$error":"#DIV/0!"},{"$error":"#DIV/0!"},"YES",null,null,null,0,0,0]
[108,null,null,null,null,"NO",{"$error":"#DIV/0!"},{"$error":"#DIV/0!"},"YES",null,null,null,0,0,0]
[109,null,null,null,null,"NO",{"$error":"#DIV/0!"},{"$error":"#DIV/0!"},"YES",null,null,null,0,0,0]
[110,null,null,null,null,"NO",{"$error":"#DIV/0!"},{"$error":"#DIV/0!"},"YES",null,null,null,0,0,0]
[111,null,null,null,null,"NO",{"$error":"#DIV/0!"},{"$error":"#DIV/0!"},"YES",null,null,null,0,0,0]
[112,null,null,null,null,"NO",{"$error":"#DIV/0!"},{"$error":"#DIV/0!"},"YES",null,null,null,0,0,0]
[113,null,null,null,null,"NO",{"$error":"#DIV/0!"},{"$error":"#DIV/0!"},"YES",null,null,null,0,0,0]
[114,null,null,null,null,"NO",{"$error":"#DIV/0!"},{"$error":"#DIV/0!"},"YES",null,null,null,0,0,0]
[115,null,null,null,null,"NO",{"$error":"#DIV/0!"},{"$error":"#DIV/0!"},"YES",null,null,null,0,0,0]
[116,null,null,null,null,"NO",{"$error":"#DIV/0!"},{"$error":"#DIV/0!"},"YES",null,null,null,0,0,0]
[117,null,null,null,null,"NO",{"$error":"#DIV/0!"},{"$error":"#DIV/0!"},"YES",null,null,null,0,0,0]
[118,null,null,null,null,"NO",{"$error":"#DIV/0!"},{"$error":"#DIV/0!"},"YES",null,null,null,0,0,0]
[119,null,null,null,null,"NO",{"$error":"#DIV/0!"},{"$error":"#DIV/0!"},"YES",null,null,null,0,0,0]
[120,null,null,null,null,"NO",{"$error":"#DIV/0!"},{"$error":"#DIV/0!"},"YES",null,null,null,0,0,0]
[121,null,null,null,null,"NO",{"$error":"#DIV/0!"},{"$error":"#DIV/0!"},"YES",null,null,null,0,0,0]
[122,null,null,null,null,"NO",{"$error":"#DIV/0!"},{"$error":"#DIV/0!"},"YES",null,null,null,0,0,0]
[123,null,null,null,null,"NO",{"$error":"#DIV/0!"},{"$error":"#DIV/0!"},"YES",null,null,null,0,0,0]
[124,null,null,null,null,"NO",{"$error":"#DIV/0!"},{"$error":"#DIV/0!"},"YES",null,null,null,0,0,0]
[125,null,null,null,null,"NO",{"$error":"#DIV/0!"},{"$error":"#DIV/0!"},"YES",null,null,null,0,0,0]
[126,null,null,null,null,"NO",{"$error":"#DIV/0!"},{"$error":"#DIV/0!"},"YES",null,null,null,0,0,0]
[127,null,null,null,null,"NO",{"$error":"#DIV/0!"},{"$error":"#DIV/0!"},"YES",null,null,null,0,0,0]
[128,null,null,null,null,"NO",{"$error":"#DIV/0!"},{"$error":"#DIV/0!"},"YES",null,null,null,0,0,0]
[129,null,null,null,null,{"$f":"IF((Grade_Level=6)*AND(Post_Test>=Grade6),\"YES\",IF((Grade_Level=7)*AND(Post_Test>=Grade7),\"YES\",IF((Grade_Level=8)*AND(Post_Test>=Grade8),\"YES\",IF((Post_Test>Pre_Test),\"YES\",\"NO\"))))","v":"NO"},{"$f":"(Post_Test-Pre_Test)/Pre_Test","v":{"$error":"#DIV/0!"}},{"$f":"IF(((Grade_Level=6)*AND(Post_Test>=Grade6)*AND(Rate_of_Improvement<=0.5)),0.5,IF(((Grade_Level=7)*AND(Post_Test>=Grade7)*AND(Rate_of_Improvement<=0.5)),0.5,IF(((Grade_Level=8)*AND(Post_Test>=Grade8)*AND(Rate_of_Improvement<=0.5)),0.5,Rate_of_Improvement)))","v":{"$error":"#DIV/0!"}},"YES",null,null,null,{"$f":"IF(Pre_Test>=0.01,1,0)","v":0},{"$f":"IF(Post_Test>=0.01,1,0)","v":0},{"$f":"Pre_Counter+Post_Counter","v":0}]
[130,null,null,null,null,"NO",{"$error":"#DIV/0!"},{"$error":"#DIV/0!"},"YES",null,null,null,0,0,0]
[131,null,null,null,null,"NO",{"$error":"#DIV/0!"},{"$error":"#DIV/0!"},"YES",null,null,null,0,0,0]
[132,null,null,null,null,"NO",{"$error":"#DIV/0!"},{"$error":"#DIV/0!"},"YES",null,null,null,0,0,0]
[133,null,null,null,null,"NO",{"$error":"#DIV/0!"},{"$error":"#DIV/0!"},"YES",null,null,null,0,0,0]
[134,null,null,null,null,"NO",{"$error":"#DIV/0!"},{"$error":"#DIV/0!"},"YES",null,null,null,0,0,0]
[135,null,null,null,null,"NO",{"$error":"#DIV/0!"},{"$error":"#DIV/0!"},"YES",null,null,null,0,0,0]
[136,null,null,null,null,"NO",{"$error":"#DIV/0!"},{"$error":"#DIV/0!"},"YES",null,null,null,0,0,0]
[137,null,null,null,null,"NO",{"$error":"#DIV/0!"},{"$error":"#DIV/0!"},"YES",null,null,null,0,0,0]
[138,null,null,null,null,"NO",{"$error":"#DIV/0!"},{"$error":"#DIV/0!"},"YES",null,null,null,0,0,0]
[139,null,null,null,null,"NO",{"$error":"#DIV/0!"},{"$error":"#DIV/0!"},"YES",null,null,null,0,0,0]
[140,null,null,null,null,"NO",{"$error":"#DIV/0!"},{"$error":"#DIV/0!"},"YES",null,null,null,0,0,0]
[141,null,null,null,null,"NO",{"$error":"#DIV/0!"},{"$error":"#DIV/0!"},"YES",null,null,null,0,0,0]
[142,null,null,null,null,"NO",{"$error":"#DIV/0!"},{"$error":"#DIV/0!"},"YES",null,null,null,0,0,0]
[143,null,null,null,null,"NO",{"$error":"#DIV/0!"},{"$error":"#DIV/0!"},"YES",null,null,null,0,0,0]
[144,null,null,null,null,"NO",{"$error":"#DIV/0!"},{"$error":"#DIV/0!"},"YES",null,null,null,0,0,0]
[145,null,null,null,null,"NO",{"$error":"#DIV/0!"},{"$error":"#DIV/0!"},"YES",null,null,null,0,0,0]
[146,null,null,null,null,"NO",{"$error":"#DIV/0!"},{"$error":"#DIV/0!"},"YES",null,null,null,0,0,0]
[147,null,null,null,null,"NO",{"$error":"#DIV/0!"},{"$error":"#DIV/0!"},"YES",null,null,null,0,0,0]
[148,null,null,null,null,"NO",{"$error":"#DIV/0!"},{"$error":"#DIV/0!"},"YES",null,null,null,0,0,0]
[149,null,null,null,null,"NO",{"$error":"#DIV/0!"},{"$error":"#DIV/0!"},"YES",null,null,null,0,0,0]
[150,null,null,null,null,"NO",{"$error":"#DIV/0!"},{"$error":"#DIV/0!"},"YES",null,null,null,0,0,0]
[151,null,null,null,null,"NO",{"$error":"#DIV/0!"},{"$error":"#DIV/0!"},"YES",null,null,null,0,0,0]
[152,null,null,null,null,"NO",{"$error":"#DIV/0!"},{"$error":"#DIV/0!"},"YES",null,null,null,0,0,0]
[153,null,null,null,null,"NO",{"$error":"#DIV/0!"},{"$error":"#DIV/0!"},"YES",null,null,null,0,0,0]
[154,null,null,null,null,"NO",{"$error":"#DIV/0!"},{"$error":"#DIV/0!"},"YES",null,null,null,0,0,0]
[155,null,null,null,null,"NO",{"$error":"#DIV/0!"},{"$error":"#DIV/0!"},"YES",null,null,null,0,0,0]
[156,null,null,null,null,"NO",{"$error":"#DIV/0!"},{"$error":"#DIV/0!"},"YES",null,null,null,0,0,0]
[157,null,null,null,null,"NO",{"$error":"#DIV/0!"},{"$error":"#DIV/0!"},"YES",null,null,null,0,0,0]
[158,null,null,null,null,"NO",{"$error":"#DIV/0!"},{"$error":"#DIV/0!"},"YES",null,null,null,0,0,0]
[159,null,null,null,null,"NO",{"$error":"#DIV/0!"},{"$error":"#DIV/0!"},"YES",null,null,null,0,0,0]
[160,null,null,null,null,"NO",{"$error":"#DIV/0!"},{"$error":"#DIV/0!"},"YES",null,null,null,0,0,0]
[161,null,null,null,null,"NO",{"$error":"#DIV/0!"},{"$error":"#DIV/0!"},"YES",null,null,null,0,0,0]
[162,null,null,null,null,"NO",{"$error":"#DIV/0!"},{"$error":"#DIV/0!"},"YES",null,null,null,0,0,0]
[163,null,null,null,null,"NO",{"$error":"#DIV/0!"},{"$error":"#DIV/0!"},"YES",null,null,null,0,0,0]
[164,null,null,null,null,"NO",{"$error":"#DIV/0!"},{"$error":"#DIV/0!"},"YES",null,null,null,0,0,0]
[165,null,null,null,null,"NO",{"$error":"#DIV/0!"},{"$error":"#DIV/0!"},"YES",null,null,null,0,0,0]
[166,null,null,null,null,"NO",{"$error":"#DIV/0!"},{"$error":"#DIV/0!"},"YES",null,null,null,0,0,0]
[167,null,null,null,null,"NO",{"$error":"#DIV/0!"},{"$error":"#DIV/0!"},"YES",null,null,null,0,0,0]
[168,null,null,null,null,"NO",{"$error":"#DIV/0!"},{"$error":"#DIV/0!"},"YES",null,null,null,0,0,0]
[169,null,null,null,null,"NO",{"$error":"#DIV/0!"},{"$error":"#DIV/0!"},"YES",null,null,null,0,0,0]
[170,null,null,null,null,"NO",{"$error":"#DIV/0!"},{"$error":"#DIV/0!"},"YES",null,null,null,0,0,0]
[171,null,null,null,null,"NO",{"$error":"#DIV/0!"},{"$error":"#DIV/0!"},"YES",null,null,null,0,0,0]
[172,null,null,null,null,"NO",{"$error":"#DIV/0!"},{"$error":"#DIV/0!"},"YES",null,null,null,0,0,0]
[173,null,null,null,null,"NO",{"$error":"#DIV/0!"},{"$error":"#DIV/0!"},"YES",null,null,null,0,0,0]
[174,null,null,null,null,"NO",{"$error":"#DIV/0!"},{"$error":"#DIV/0!"},"YES",null,null,null,0,0,0]
[175,null,null,null,null,"NO",{"$error":"#DIV/0!"},{"$error":"#DIV/0!"},"YES",null,null,null,0,0,0]
[176,null,null,null,null,"NO",{"$error":"#DIV/0!"},{"$error":"#DIV/0!"},"YES",null,null,null,0,0,0]
[177,null,null,null,null,"NO",{"$error":"#DIV/0!"},{"$error":"#DIV/0!"},"YES",null,null,null,0,0,0]
[178,null,null,null,null,"NO",{"$error":"#DIV/0!"},{"$error":"#DIV/0!"},"YES",null,null,null,0,0,0]
[179,null,null,null,null,"NO",{"$error":"#DIV/0!"},{"$error":"#DIV/0!"},"YES",null,null,null,0,0,0]
[180,null,null,null,null,"NO",{"$error":"#DIV/0!"},{"$error":"#DIV/0!"},"YES",null,null,null,0,0,0]
[181,null,null,null,null,"NO",{"$error":"#DIV/0!"},{"$error":"#DIV/0!"},"YES",null,null,null,0,0,0]
[182,null,null,null,null,"NO",{"$error":"#DIV/0!"},{"$error":"#DIV/0!"},"YES",null,null,null,0,0,0]
[183,null,null,null,null,"NO",{"$error":"#DIV/0!"},{"$error":"#DIV/0!"},"YES",null,null,null,0,0,0]
[184,null,null,null,null,"NO",{"$error":"#DIV/0!"},{"$error":"#DIV/0!"},"YES",null,null,null,0,0,0]
[185,null,null,null,null,"NO",{"$error":"#DIV/0!"},{"$error":"#DIV/0!"},"YES",null,null,null,0,0,0]
[186,null,null,null,null,"NO",{"$error":"#DIV/0!"},{"$error":"#DIV/0!"},"YES",null,null,null,0,0,0]
[187,null,null,null,null,"NO",{"$error":"#DIV/0!"},{"$error":"#DIV/0!"},"YES",null,null,null,0,0,0]
[188,null,null,null,null,"NO",{"$error":"#DIV/0!"},{"$error":"#DIV/0!"},"YES",null,null,null,0,0,0]
[189,null,null,null,null,"NO",{"$error":"#DIV/0!"},{"$error":"#DIV/0!"},"YES",null,null,null,0,0,0]
[190,null,null,null,null,"NO",{"$error":"#DIV/0!"},{"$error":"#DIV/0!"},"YES",null,null,null,0,0,0]
[191,null,null,null,null,"NO",{"$error":"#DIV/0!"},{"$error":"#DIV/0!"},"YES",null,null,null,0,0,0]
[192,null,null,null,null,"NO",{"$error":"#DIV/0!"},{"$error":"#DIV/0!"},"YES",null,null,null,0,0,0]
[193,null,null,null,null,{"$f":"IF((Grade_Level=6)*AND(Post_Test>=Grade6),\"YES\",IF((Grade_Level=7)*AND(Post_Test>=Grade7),\"YES\",IF((Grade_Level=8)*AND(Post_Test>=Grade8),\"YES\",IF((Post_Test>Pre_Test),\"YES\",\"NO\"))))","v":"NO"},{"$f":"(Post_Test-Pre_Test)/Pre_Test","v":{"$error":"#DIV/0!"}},{"$f":"IF(((Grade_Level=6)*AND(Post_Test>=Grade6)*AND(Rate_of_Improvement<=0.5)),0.5,IF(((Grade_Level=7)*AND(Post_Test>=Grade7)*AND(Rate_of_Improvement<=0.5)),0.5,IF(((Grade_Level=8)*AND(Post_Test>=Grade8)*AND(Rate_of_Improvement<=0.5)),0.5,Rate_of_Improvement)))","v":{"$error":"#DIV/0!"}},"YES",null,null,null,{"$f":"IF(Pre_Test>=0.01,1,0)","v":0},{"$f":"IF(Post_Test>=0.01,1,0)","v":0},{"$f":"Pre_Counter+Post_Counter","v":0}]
[194,null,null,null,null,"NO",{"$error":"#DIV/0!"},{"$error":"#DIV/0!"},"YES",null,null,null,0,0,0]
[195,null,null,null,null,"NO",{"$error":"#DIV/0!"},{"$error":"#DIV/0!"},"YES",null,null,null,0,0,0]
[196,null,null,null,null,"NO",{"$error":"#DIV/0!"},{"$error":"#DIV/0!"},"YES",null,null,null,0,0,0]
[197,null,null,null,null,"NO",{"$error":"#DIV/0!"},{"$error":"#DIV/0!"},"YES",null,null,null,0,0,0]
[198,null,null,null,null,"NO",{"$error":"#DIV/0!"},{"$error":"#DIV/0!"},"YES",null,null,null,0,0,0]
[199,null,null,null,null,"NO",{"$error":"#DIV/0!"},{"$error":"#DIV/0!"},"YES",null,null,null,0,0,0]
[200,null,null,null,null,"NO",{"$error":"#DIV/0!"},{"$error":"#DIV/0!"},"YES",null,null,null,0,0,0]
[201,null,null,null,null,"NO",{"$error":"#DIV/0!"},{"$error":"#DIV/0!"},"YES",null,null,null,0,0,0]
[202,null,null,null,null,"NO",{"$error":"#DIV/0!"},{"$error":"#DIV/0!"},"YES",null,null,null,0,0,0]
[203,null,null,null,null,"NO",{"$error":"#DIV/0!"},{"$error":"#DIV/0!"},"YES",null,null,null,0,0,0]
[204,null,null,null,null,"NO",{"$error":"#DIV/0!"},{"$error":"#DIV/0!"},"YES",null,null,null,0,0,0]
[205,null,null,null,null,"NO",{"$error":"#DIV/0!"},{"$error":"#DIV/0!"},"YES",null,null,null,0,0,0]
[206,null,null,null,null,"NO",{"$error":"#DIV/0!"},{"$error":"#DIV/0!"},"YES",null,null,null,0,0,0]
[207,null,null,null,null,"NO",{"$error":"#DIV/0!"},{"$error":"#DIV/0!"},"YES",null,null,null,0,0,0]
[208,null,null,null,null,"NO",{"$error":"#DIV/0!"},{"$error":"#DIV/0!"},"YES",null,null,null,0,0,0]
[209,null,null,null,null,"NO",{"$error":"#DIV/0!"},{"$error":"#DIV/0!"},"YES",null,null,null,0,0,0]
[210,null,null,null,null,"NO",{"$error":"#DIV/0!"},{"$error":"#DIV/0!"},"YES",null,null,null,0,0,0]
[211,null,null,null,null,"NO",{"$error":"#DIV/0!"},{"$error":"#DIV/0!"},"YES",null,null,null,0,0,0]
[212,null,null,null,null,"NO",{"$error":"#DIV/0!"},{"$error":"#DIV/0!"},"YES",null,null,null,0,0,0]
[213,null,null,null,null,"NO",{"$error":"#DIV/0!"},{"$error":"#DIV/0!"},"YES",null,null,null,0,0,0]
[214,null,null,null,null,"NO",{"$error":"#DIV/0!"},{"$error":"#DIV/0!"},"YES",null,null,null,0,0,0]
[215,null,null,null,null,"NO",{"$error":"#DIV/0!"},{"$error":"#DIV/0!"},"YES",null,null,null,0,0,0]
[216,null,null,null,null,"NO",{"$error":"#DIV/0!"},{"$error":"#DIV/0!"},"YES",null,null,null,0,0,0]
[217,null,null,null,null,"NO",{"$error":"#DIV/0!"},{"$error":"#DIV/0!"},"YES",null,null,null,0,0,0]
[218,null,null,null,null,"NO",{"$error":"#DIV/0!"},{"$error":"#DIV/0!"},"YES",null,null,null,0,0,0]
[219,null,null,null,null,"NO",{"$error":"#DIV/0!"},{"$error":"#DIV/0!"},"YES",null,null,null,0,0,0]
[220,null,null,null,null,"NO",{"$error":"#DIV/0!"},{"$error":"#DIV/0!"},"YES",null,null,null,0,0,0]
[221,null,null,null,null,"NO",{"$error":"#DIV/0!"},{"$error":"#DIV/0!"},"YES",null,null,null,0,0,0]
[222,null,null,null,null,"NO",{"$error":"#DIV/0!"},{"$error":"#DIV/0!"},"YES",null,null,null,0,0,0]
[223,null,null,null,null,"NO",{"$error":"#DIV/0!"},{"$error":"#DIV/0!"},"YES",null,null,null,0,0,0]
[224,null,null,null,null,"NO",{"$error":"#DIV/0!"},{"$error":"#DIV/0!"},"YES",null,null,null,0,0,0]
[225,null,null,null,null,"NO",{"$error":"#DIV/0!"},{"$error":"#DIV/0!"},"YES",null,null,null,0,0,0]
[226,null,null,null,null,"NO",{"$error":"#DIV/0!"},{"$error":"#DIV/0!"},"YES",null,null,null,0,0,0]
[227,null,null,null,null,"NO",{"$error":"#DIV/0!"},{"$error":"#DIV/0!"},"YES",null,null,null,0,0,0]
[228,null,null,null,null,"NO",{"$error":"#DIV/0!"},{"$error":"#DIV/0!"},"YES",null,null,null,0,0,0]
[229,null,null,null,null,"NO",{"$error":"#DIV/0!"},{"$error":"#DIV/0!"},"YES",null,null,null,0,0,0]
[230,null,null,null,null,"NO",{"$error":"#DIV/0!"},{"$error":"#DIV/0!"},"YES",null,null,null,0,0,0]
[231,null,null,null,null,"NO",{"$error":"#DIV/0!"},{"$error":"#DIV/0!"},"YES",null,null,null,0,0,0]
[232,null,null,null,null,"NO",{"$error":"#DIV/0!"},{"$error":"#DIV/0!"},"YES",null,null,null,0,0,0]
[233,null,null,null,null,"NO",{"$error":"#DIV/0!"},{"$error":"#DIV/0!"},"YES",null,null,null,0,0,0]
[234,null,null,null,null,"NO",{"$error":"#DIV/0!"},{"$error":"#DIV/0!"},"YES",null,null,null,0,0,0]
[235,null,null,null,null,"NO",{"$error":"#DIV/0!"},{"$error":"#DIV/0!"},"YES",null,null,null,0,0,0]
[236,null,null,null,null,"NO",{"$error":"#DIV/0!"},{"$error":"#DIV/0!"},"YES",null,null,null,0,0,0]
[237,null,null,null,null,"NO",{"$error":"#DIV/0!"},{"$error":"#DIV/0!"},"YES",null,null,null,0,0,0]
[238,null,null,null,null,"NO",{"$error":"#DIV/0!"},{"$error":"#DIV/0!"},"YES",null,null,null,0,0,0]
[239,null,null,null,null,"NO",{"$error":"#DIV/0!"},{"$error":"#DIV/0!"},"YES",null,null,null,0,0,0]
[240,null,null,null,null,"NO",{"$error":"#DIV/0!"},{"$error":"#DIV/0!"},"YES",null,null,null,0,0,0]
[241,null,null,null,null,"NO",{"$error":"#DIV/0!"},{"$error":"#DIV/0!"},"YES",null,null,null,0,0,0]
[242,null,null,null,null,"NO",{"$error":"#DIV/0!"},{"$error":"#DIV/0!"},"YES",null,null,null,0,0,0]
[243,null,null,null,null,"NO",{"$error":"#DIV/0!"},{"$error":"#DIV/0!"},"YES",null,null,null,0,0,0]
[244,null,null,null,null,"NO",{"$error":"#DIV/0!"},{"$error":"#DIV/0!"},"YES",null,null,null,0,0,0]
[245,null,null,null,null,"NO",{"$error":"#DIV/0!"},{"$error":"#DIV/0!"},"YES",null,null,null,0,0,0]
[246,null,null,null,null,"NO",{"$error":"#DIV/0!"},{"$error":"#DIV/0!"},"YES",null,null,null,0,0,0]
[247,null,null,null,null,"NO",{"$error":"#DIV/0!"},{"$error":"#DIV/0!"},"YES",null,null,null,0,0,0]
[248,null,null,null,null,"NO",{"$error":"#DIV/0!"},{"$error":"#DIV/0!"},"YES",null,null,null,0,0,0]
[249,null,null,null,null,"NO",{"$error":"#DIV/0!"},{"$error":"#DIV/0!"},"YES",null,null,null,0,0,0]
[250,null,null,null,null,"NO",{"$error":"#DIV/0!"},{"$error":"#DIV/0!"},"YES",null,null,null,0,0,0]
[251,null,null,null,null,"NO",{"$error":"#DIV/0!"},{"$error":"#DIV/0!"},"YES",null,null,null,0,0,0]
[252,null,null,null,null,"NO",{"$error":"#DIV/0!"},{"$error":"#DIV/0!"},"YES",null,null,null,0,0,0]
[253,null,null,null,null,"NO",{"$error":"#DIV/0!"},{"$error":"#DIV/0!"},"YES",null,null,null,0,0,0]
[254,null,null,null,null,"NO",{"$error":"#DIV/0!"},{"$error":"#DIV/0!"},"YES",null,null,null,0,0,0]
[255,null,null,null,null,"NO",{"$error":"#DIV/0!"},{"$error":"#DIV/0!"},"YES",null,null,null,0,0,0]
[256,null,null,null,null,"NO",{"$error":"#DIV/0!"},{"$error":"#DIV/0!"},"YES",null,null,null,0,0,0]
[257,null,null,null,null,{"$f":"IF((Grade_Level=6)*AND(Post_Test>=Grade6),\"YES\",IF((Grade_Level=7)*AND(Post_Test>=Grade7),\"YES\",IF((Grade_Level=8)*AND(Post_Test>=Grade8),\"YES\",IF((Post_Test>Pre_Test),\"YES\",\"NO\"))))","v":"NO"},{"$f":"(Post_Test-Pre_Test)/Pre_Test","v":{"$error":"#DIV/0!"}},{"$f":"IF(((Grade_Level=6)*AND(Post_Test>=Grade6)*AND(Rate_of_Improvement<=0.5)),0.5,IF(((Grade_Level=7)*AND(Post_Test>=Grade7)*AND(Rate_of_Improvement<=0.5)),0.5,IF(((Grade_Level=8)*AND(Post_Test>=Grade8)*AND(Rate_of_Improvement<=0.5)),0.5,Rate_of_Improvement)))","v":{"$error":"#DIV/0!"}},"YES",null,null,null,{"$f":"IF(Pre_Test>=0.01,1,0)","v":0},{"$f":"IF(Post_Test>=0.01,1,0)","v":0},{"$f":"Pre_Counter+Post_Counter","v":0}]
[258,null,null,null,null,"NO",{"$error":"#DIV/0!"},{"$error":"#DIV/0!"},"YES",null,null,null,0,0,0]
[259,null,null,null,null,"NO",{"$error":"#DIV/0!"},{"$error":"#DIV/0!"},"YES",null,null,null,0,0,0]
[260,null,null,null,null,"NO",{"$error":"#DIV/0!"},{"$error":"#DIV/0!"},"YES",null,null,null,0,0,0]
[261,null,null,null,null,"NO",{"$error":"#DIV/0!"},{"$error":"#DIV/0!"},"YES",null,null,null,0,0,0]
[262,null,null,null,null,"NO",{"$error":"#DIV/0!"},{"$error":"#DIV/0!"},"YES",null,null,null,0,0,0]
[263,null,null,null,null,"NO",{"$error":"#DIV/0!"},{"$error":"#DIV/0!"},"YES",null,null,null,0,0,0]
[264,null,null,null,null,"NO",{"$error":"#DIV/0!"},{"$error":"#DIV/0!"},"YES",null,null,null,0,0,0]
[265,null,null,null,null,"NO",{"$error":"#DIV/0!"},{"$error":"#DIV/0!"},"YES",null,null,null,0,0,0]
[266,null,null,null,null,"NO",{"$error":"#DIV/0!"},{"$error":"#DIV/0!"},"YES",null,null,null,0,0,0]
[267,null,null,null,null,"NO",{"$error":"#DIV/0!"},{"$error":"#DIV/0!"},"YES",null,null,null,0,0,0]
[268,null,null,null,null,"NO",{"$error":"#DIV/0!"},{"$error":"#DIV/0!"},"YES",null,null,null,0,0,0]
[269,null,null,null,null,"NO",{"$error":"#DIV/0!"},{"$error":"#DIV/0!"},"YES",null,null,null,0,0,0]
[270,null,null,null,null,"NO",{"$error":"#DIV/0!"},{"$error":"#DIV/0!"},"YES",null,null,null,0,0,0]
[271,null,null,null,null,"NO",{"$error":"#DIV/0!"},{"$error":"#DIV/0!"},"YES",null,null,null,0,0,0]
[272,null,null,null,null,"NO",{"$error":"#DIV/0!"},{"$error":"#DIV/0!"},"YES",null,null,null,0,0,0]
[273,null,null,null,null,"NO",{"$error":"#DIV/0!"},{"$error":"#DIV/0!"},"YES",null,null,null,0,0,0]
[274,null,null,null,null,"NO",{"$error":"#DIV/0!"},{"$error":"#DIV/0!"},"YES",null,null,null,0,0,0]
[275,null,null,null,null,"NO",{"$error":"#DIV/0!"},{"$error":"#DIV/0!"},"YES",null,null,null,0,0,0]
[276,null,null,null,null,"NO",{"$error":"#DIV/0!"},{"$error":"#DIV/0!"},"YES",null,null,null,0,0,0]
[277,null,null,null,null,"NO",{"$error":"#DIV/0!"},{"$error":"#DIV/0!"},"YES",null,null,null,0,0,0]
[278,null,null,null,null,"NO",{"$error":"#DIV/0!"},{"$error":"#DIV/0!"},"YES",null,null,null,0,0,0]
[279,null,null,null,null,"NO",{"$error":"#DIV/0!"},{"$error":"#DIV/0!"},"YES",null,null,null,0,0,0]
[280,null,null,null,null,"NO",{"$error":"#DIV/0!"},{"$error":"#DIV/0!"},"YES",null,null,null,0,0,0]
[281,null,null,null,null,"NO",{"$error":"#DIV/0!"},{"$error":"#DIV/0!"},"YES",null,null,null,0,0,0]
[282,null,null,null,null,"NO",{"$error":"#DIV/0!"},{"$error":"#DIV/0!"},"YES",null,null,null,0,0,0]
[283,null,null,null,null,"NO",{"$error":"#DIV/0!"},{"$error":"#DIV/0!"},"YES",null,null,null,0,0,0]
[284,null,null,null,null,"NO",{"$error":"#DIV/0!"},{"$error":"#DIV/0!"},"YES",null,null,null,0,0,0]
[285,null,null,null,null,"NO",{"$error":"#DIV/0!"},{"$error":"#DIV/0!"},"YES",null,null,null,0,0,0]
[286,null,null,null,null,"NO",{"$error":"#DIV/0!"},{"$error":"#DIV/0!"},"YES",null,null,null,0,0,0]
[287,null,null,null,null,"NO",{"$error":"#DIV/0!"},{"$error":"#DIV/0!"},"YES",null,null,null,0,0,0]
[288,null,null,null,null,"NO",{"$error":"#DIV/0!"},{"$error":"#DIV/0!"},"YES",null,null,null,0,0,0]
[289,null,null,null,null,"NO",{"$error":"#DIV/0!"},{"$error":"#DIV/0!"},"YES",null,null,null,0,0,0]
[290,null,null,null,null,"NO",{"$error":"#DIV/0!"},{"$error":"#DIV/0!"},"YES",null,null,null,0,0,0]
[291,null,null,null,null,"NO",{"$error":"#DIV/0!"},{"$error":"#DIV/0!"},"YES",null,null,null,0,0,0]
[292,null,null,null,null,"NO",{"$error":"#DIV/0!"},{"$error":"#DIV/0!"},"YES",null,null,null,0,0,0]
[293,null,null,null,null,"NO",{"$error":"#DIV/0!"},{"$error":"#DIV/0!"},"YES",null,null,null,0,0,0]
[294,null,null,null,null,"NO",{"$error":"#DIV/0!"},{"$error":"#DIV/0!"},"YES",null,null,null,0,0,0]
[295,null,null,null,null,"NO",{"$error":"#DIV/0!"},{"$error":"#DIV/0!"},"YES",null,null,null,0,0,0]
[296,null,null,null,null,"NO",{"$error":"#DIV/0!"},{"$error":"#DIV/0!"},"YES",null,null,null,0,0,0]
[297,null,null,null,null,"NO",{"$error":"#DIV/0!"},{"$error":"#DIV/0!"},"YES",null,null,null,0,0,0]
[298,null,null,null,null,"NO",{"$error":"#DIV/0!"},{"$error":"#DIV/0!"},"YES",null,null,null,0,0,0]
[299,null,null,null,null,"NO",{"$error":"#DIV/0!"},{"$error":"#DIV/0!"},"YES",null,null,null,0,0,0]
[300,null,null,null,null,"NO",{"$error":"#DIV/0!"},{"$error":"#DIV/0!"},"YES",null,null,null,0,0,0]
[301,null,null,null,null,"NO",{"$error":"#DIV/0!"},{"$error":"#DIV/0!"},"YES",null,null,null,0,0,0]
[302,null,null,null,null,"NO",{"$error":"#DIV/0!"},{"$error":"#DIV/0!"},"YES",null,null,null,0,0,0]
[303,null,null,null,null,"NO",{"$error":"#DIV/0!"},{"$error":"#DIV/0!"},"YES",null,null,null,0,0,0]
[304,null,null,null,null,"NO",{"$error":"#DIV/0!"},{"$error":"#DIV/0!"},"YES",null,null,null,0,0,0]
[305,null,null,null,null,"NO",{"$error":"#DIV/0!"},{"$error":"#DIV/0!"},"YES",null,null,null,0,0,0]
[306,null,null,null,null,"NO",{"$error":"#DIV/0!"},{"$error":"#DIV/0!"},"YES",null,null,null,0,0,0]
[307,null,null,null,null,"NO",{"$error":"#DIV/0!"},{"$error":"#DIV/0!"},"YES",null,null,null,0,0,0]
[308,null,null,null,null,"NO",{"$error":"#DIV/0!"},{"$error":"#DIV/0!"},"YES",null,null,null,0,0,0]
[309,null,null,null,null,"NO",{"$error":"#DIV/0!"},{"$error":"#DIV/0!"},"YES",null,null,null,0,0,0]
[310,null,null,null,null,"NO",{"$error":"#DIV/0!"},{"$error":"#DIV/0!"},"YES",null,null,null,0,0,0]
[311,null,null,null,null,"NO",{"$error":"#DIV/0!"},{"$error":"#DIV/0!"},"YES",null,null,null,0,0,0]
[312,null,null,null,null,"NO",{"$error":"#DIV/0!"},{"$error":"#DIV/0!"},"YES",null,null,null,0,0,0]
[313,null,null,null,null,"NO",{"$error":"#DIV/0!"},{"$error":"#DIV/0!"},"YES",null,null,null,0,0,0]
[314,null,null,null,null,"NO",{"$error":"#DIV/0!"},{"$error":"#DIV/0!"},"YES",null,null,null,0,0,0]
[315,null,null,null,null,"NO",{"$error":"#DIV/0!"},{"$error":"#DIV/0!"},"YES",null,null,null,0,0,0]
[316,null,null,null,null,"NO",{"$error":"#DIV/0!"},{"$error":"#DIV/0!"},"YES",null,null,null,0,0,0]
[317,null,null,null,null,"NO",{"$error":"#DIV/0!"},{"$error":"#DIV/0!"},"YES",null,null,null,0,0,0]
[318,null,null,null,null,"NO",{"$error":"#DIV/0!"},{"$error":"#DIV/0!"},"YES",null,null,null,0,0,0]
[319,null,null,null,null,"NO",{"$error":"#DIV/0!"},{"$error":"#DIV/0!"},"YES",null,null,null,0,0,0]
[320,null,null,null,null,"NO",{"$error":"#DIV/0!"},{"$error":"#DIV/0!"},"YES",null,null,null,0,0,0]
[321,null,null,null,null,{"$f":"IF((Grade_Level=6)*AND(Post_Test>=Grade6),\"YES\",IF((Grade_Level=7)*AND(Post_Test>=Grade7),\"YES\",IF((Grade_Level=8)*AND(Post_Test>=Grade8),\"YES\",IF((Post_Test>Pre_Test),\"YES\",\"NO\"))))","v":"NO"},{"$f":"(Post_Test-Pre_Test)/Pre_Test","v":{"$error":"#DIV/0!"}},{"$f":"IF(((Grade_Level=6)*AND(Post_Test>=Grade6)*AND(Rate_of_Improvement<=0.5)),0.5,IF(((Grade_Level=7)*AND(Post_Test>=Grade7)*AND(Rate_of_Improvement<=0.5)),0.5,IF(((Grade_Level=8)*AND(Post_Test>=Grade8)*AND(Rate_of_Improvement<=0.5)),0.5,Rate_of_Improvement)))","v":{"$error":"#DIV/0!"}},"YES",null,null,null,{"$f":"IF(Pre_Test>=0.01,1,0)","v":0},{"$f":"IF(Post_Test>=0.01,1,0)","v":0},{"$f":"Pre_Counter+Post_Counter","v":0}]
[322,null,null,null,null,"NO",{"$error":"#DIV/0!"},{"$error":"#DIV/0!"},"YES",null,null,null,0,0,0]
[323,null,null,null,null,"NO",{"$error":"#DIV/0!"},{"$error":"#DIV/0!"},"YES",null,null,null,0,0,0]
[324,null,null,null,null,"NO",{"$error":"#DIV/0!"},{"$error":"#DIV/0!"},"YES",null,null,null,0,0,0]
[325,null,null,null,null,"NO",{"$error":"#DIV/0!"},{"$error":"#DIV/0!"},"YES",null,null,null,0,0,0]
[326,null,null,null,null,"NO",{"$error":"#DIV/0!"},{"$error":"#DIV/0!"},"YES",null,null,null,0,0,0]
[327,null,null,null,null,"NO",{"$error":"#DIV/0!"},{"$error":"#DIV/0!"},"YES",null,null,null,0,0,0]
[328,null,null,null,null,"NO",{"$error":"#DIV/0!"},{"$error":"#DIV/0!"},"YES",null,null,null,0,0,0]
[329,null,null,null,null,"NO",{"$error":"#DIV/0!"},{"$error":"#DIV/0!"},"YES",null,null,null,0,0,0]
[330,null,null,null,null,"NO",{"$error":"#DIV/0!"},{"$error":"#DIV/0!"},"YES",null,null,null,0,0,0]
[331,null,null,null,null,"NO",{"$error":"#DIV/0!"},{"$error":"#DIV/0!"},"YES",null,null,null,0,0,0]
[332,null,null,null,null,"NO",{"$error":"#DIV/0!"},{"$error":"#DIV/0!"},"YES",null,null,null,0,0,0]
[333,null,null,null,null,"NO",{"$error":"#DIV/0!"},{"$error":"#DIV/0!"},"YES",null,null,null,0,0,0]
[334,null,null,null,null,"NO",{"$error":"#DIV/0!"},{"$error":"#DIV/0!"},"YES",null,null,null,0,0,0]
[335,null,null,null,null,"NO",{"$error":"#DIV/0!"},{"$error":"#DIV/0!"},"YES",null,null,null,0,0,0]
[336,null,null,null,null,"NO",{"$error":"#DIV/0!"},{"$error":"#DIV/0!"},"YES",null,null,null,0,0,0]
[337,null,null,null,null,"NO",{"$error":"#DIV/0!"},{"$error":"#DIV/0!"},"YES",null,null,null,0,0,0]
[338,null,null,null,null,"NO",{"$error":"#DIV/0!"},{"$error":"#DIV/0!"},"YES",null,null,null,0,0,0]
[339,null,null,null,null,"NO",{"$error":"#DIV/0!"},{"$error":"#DIV/0!"},"YES",null,null,null,0,0,0]
[340,null,null,null,null,"NO",{"$error":"#DIV/0!"},{"$error":"#DIV/0!"},"YES",null,null,null,0,0,0]
[341,null,null,null,null,"NO",{"$error":"#DIV/0!"},{"$error":"#DIV/0!"},"YES",null,null,null,0,0,0]
[342,null,null,null,null,"NO",{"$error":"#DIV/0!"},{"$error":"#DIV/0!"},"YES",null,null,null,0,0,0]
[343,null,null,null,null,"NO",{"$error":"#DIV/0!"},{"$error":"#DIV/0!"},"YES",null,null,null,0,0,0]
[344,null,null,null,null,"NO",{"$error":"#DIV/0!"},{"$error":"#DIV/0!"},"YES",null,null,null,0,0,0]
[345,null,null,null,null,"NO",{"$error":"#DIV/0!"},{"$error":"#DIV/0!"},"YES",null,null,null,0,0,0]
[346,null,null,null,null,"NO",{"$error":"#DIV/0!"},{"$error":"#DIV/0!"},"YES",null,null,null,0,0,0]
[347,null,null,null,null,"NO",{"$error":"#DIV/0!"},{"$error":"#DIV/0!"},"YES",null,null,null,0,0,0]
[348,null,null,null,null,"NO",{"$error":"#DIV/0!"},{"$error":"#DIV/0!"},"YES",null,null,null,0,0,0]
[349,null,null,null,null,"NO",{"$error":"#DIV/0!"},{"$error":"#DIV/0!"},"YES",null,null,null,0,0,0]
[350,null,null,null,null,"NO",{"$error":"#DIV/0!"},{"$error":"#DIV/0!"},"YES",null,null,null,0,0,0]
[351,null,null,null,null,"NO",{"$error":"#DIV/0!"},{"$error":"#DIV/0!"},"YES",null,null,null,0,0,0]
[352,null,null,null,null,"NO",{"$error":"#DIV/0!"},{"$error":"#DIV/0!"},"YES",null,null,null,0,0,0]
[353,null,null,null,null,"NO",{"$error":"#DIV/0!"},{"$error":"#DIV/0!"},"YES",null,null,null,0,0,0]
[354,null,null,null,null,"NO",{"$error":"#DIV/0!"},{"$error":"#DIV/0!"},"YES",null,null,null,0,0,0]
[355,null,null,null,null,"NO",{"$error":"#DIV/0!"},{"$error":"#DIV/0!"},"YES",null,null,null,0,0,0]
[356,null,null,null,null,"NO",{"$error":"#DIV/0!"},{"$error":"#DIV/0!"},"YES",null,null,null,0,0,0]
[357,null,null,null,null,"NO",{"$error":"#DIV/0!"},{"$error":"#DIV/0!"},"YES",null,null,null,0,0,0]
[358,null,null,null,null,"NO",{"$error":"#DIV/0!"},{"$error":"#DIV/0!"},"YES",null,null,null,0,0,0]
[359,null,null,null,null,"NO",{"$error":"#DIV/0!"},{"$error":"#DIV/0!"},"YES",null,null,null,0,0,0]
[360,null,null,null,null,"NO",{"$error":"#DIV/0!"},{"$error":"#DIV/0!"},"YES",null,null,null,0,0,0]
[361,null,null,null,null,"NO",{"$error":"#DIV/0!"},{"$error":"#DIV/0!"},"YES"]
[362,null,null,null,null,"NO",{"$error":"#DIV/0!"},{"$error":"#DIV/0!"},"YES"]
[363,null,null,null,null,"NO",{"$error":"#DIV/0!"},{"$error":"#DIV/0!"},"YES"]
[364,null,null,null,null,"NO",{"$error":"#DIV/0!"},{"$error":"#DIV/0!"},"YES"]
[365,null,null,null,null,"NO",{"$error":"#DIV/0!"},{"$error":"#DIV/0!"},"YES"]
[366,null,null,null,null,"NO",{"$error":"#DIV/0!"},{"$error":"#DIV/0!"},"YES"]
[367,null,null,null,null,"NO",{"$error":"#DIV/0!"},{"$error":"#DIV/0!"},"YES"]
[368,null,null,null,null,"NO",{"$error":"#DIV/0!"},{"$error":"#DIV/0!"},"YES"]
[369,null,null,null,null,"NO",{"$error":"#DIV/0!"},{"$error":"#DIV/0!"},"YES"]
[370,null,null,null,null,"NO",{"$error":"#DIV/0!"},{"$error":"#DIV/0!"},"YES"]
[371,null,null,null,null,"NO",{"$error":"#DIV/0!"},{"$error":"#DIV/0!"},"YES"]
[372,null,null,null,null,"NO",{"$error":"#DIV/0!"},{"$error":"#DIV/0!"},"YES"]
[373,null,null,null,null,"NO",{"$error":"#DIV/0!"},{"$error":"#DIV/0!"},"YES"]
[374,null,null,null,null,"NO",{"$error":"#DIV/0!"},{"$error":"#DIV/0!"},"YES"]
[375,null,null,null,null,"NO",{"$error":"#DIV/0!"},{"$error":"#DIV/0!"},"YES"]
[376,null,null,null,null,"NO",{"$error":"#DIV/0!"},{"$error":"#DIV/0!"},"YES"]
[377,null,null,null,null,"NO",{"$error":"#DIV/0!"},{"$error":"#DIV/0!"},"YES"]
[378,null,null,null,null,"NO",{"$error":"#DIV/0!"},{"$error":"#DIV/0!"},"YES"]
[379,null,null,null,null,"NO",{"$error":"#DIV/0!"},{"$error":"#DIV/0!"},"YES"]
[380,null,null,null,null,"NO",{"$error":"#DIV/0!"},{"$error":"#DIV/0!"},"YES"]
[381,null,null,null,null,"NO",{"$error":"#DIV/0!"},{"$error":"#DIV/0!"},"YES"]
[382,null,null,null,null,"NO",{"$error":"#DIV/0!"},{"$error":"#DIV/0!"},"YES"]
[383,null,null,null,null,"NO",{"$error":"#DIV/0!"},{"$error":"#DIV/0!"},"YES"]
[384,null,null,null,null,"NO",{"$error":"#DIV/0!"},{"$error":"#DIV/0!"},"YES"]
[385,null,null,null,null,{"$f":"IF((Grade_Level=6)*AND(Post_Test>=Grade6),\"YES\",IF((Grade_Level=7)*AND(Post_Test>=Grade7),\"YES\",IF((Grade_Level=8)*AND(Post_Test>=Grade8),\"YES\",IF((Post_Test>Pre_Test),\"YES\",\"NO\"))))","v":"NO"},{"$f":"(Post_Test-Pre_Test)/Pre_Test","v":{"$error":"#DIV/0!"}},{"$f":"IF(((Grade_Level=6)*AND(Post_Test>=Grade6)*AND(Rate_of_Improvement<=0.5)),0.5,IF(((Grade_Level=7)*AND(Post_Test>=Grade7)*AND(Rate_of_Improvement<=0.5)),0.5,IF(((Grade_Level=8)*AND(Post_Test>=Grade8)*AND(Rate_of_Improvement<=0.5)),0.5,Rate_of_Improvement)))","v":{"$error":"#DIV/0!"}},"YES"]
[386,null,null,null,null,"NO",{"$error":"#DIV/0!"},{"$error":"#DIV/0!"},"YES"]
[387,null,null,null,null,"NO",{"$error":"#DIV/0!"},{"$error":"#DIV/0!"},"YES"]
[388,null,null,null,null,"NO",{"$error":"#DIV/0!"},{"$error":"#DIV/0!"},"YES"]
[389,null,null,null,null,"NO",{"$error":"#DIV/0!"},{"$error":"#DIV/0!"},"YES"]
[390,null,null,null,null,"NO",{"$error":"#DIV/0!"},{"$error":"#DIV/0!"},"YES"]
[391,null,null,null,null,"NO",{"$error":"#DIV/0!"},{"$error":"#DIV/0!"},"YES"]
[392,null,null,null,null,"NO",{"$error":"#DIV/0!"},{"$error":"#DIV/0!"},"YES"]
[393,null,null,null,null,"NO",{"$error":"#DIV/0!"},{"$error":"#DIV/0!"},"YES"]
[394,null,null,null,null,"NO",{"$error":"#DIV/0!"},{"$error":"#DIV/0!"},"YES"]
[395,null,null,null,null,"NO",{"$error":"#DIV/0!"},{"$error":"#DIV/0!"},"YES"]
[396,null,null,null,null,"NO",{"$error":"#DIV/0!"},{"$error":"#DIV/0!"},"YES"]
[397,null,null,null,null,"NO",{"$error":"#DIV/0!"},{"$error":"#DIV/0!"},"YES"]
[398,null,null,null,null,"NO",{"$error":"#DIV/0!"},{"$error":"#DIV/0!"},"YES"]
[399,null,null,null,null,"NO",{"$error":"#DIV/0!"},{"$error":"#DIV/0!"},"YES"]
[400,null,null,null,null,"NO",{"$error":"#DIV/0!"},{"$error":"#DIV/0!"},"YES"]
[401,null,null,null,null,"NO",{"$error":"#DIV/0!"},{"$error":"#DIV/0!"},"YES"]
[402,null,null,null,null,"NO",{"$error":"#DIV/0!"},{"$error":"#DIV/0!"},"YES"]
[403,null,null,null,null,"NO",{"$error":"#DIV/0!"},{"$error":"#DIV/0!"},"YES"]
[404,null,null,null,null,"NO",{"$error":"#DIV/0!"},{"$error":"#DIV/0!"},"YES"]
[405,null,null,null,null,"NO",{"$error":"#DIV/0!"},{"$error":"#DIV/0!"},"YES"]
[406,null,null,null,null,"NO",{"$error":"#DIV/0!"},{"$error":"#DIV/0!"},"YES"]
[407,null,null,null,null,"NO",{"$error":"#DIV/0!"},{"$error":"#DIV/0!"},"YES"]
[408,null,null,null,null,"NO",{"$error":"#DIV/0!"},{"$error":"#DIV/0!"},"YES"]
[409,null,null,null,null,"NO",{"$error":"#DIV/0!"},{"$error":"#DIV/0!"},"YES"]
[410,null,null,null,null,"NO",{"$error":"#DIV/0!"},{"$error":"#DIV/0!"},"YES"]
[411,null,null,null,null,"NO",{"$error":"#DIV/0!"},{"$error":"#DIV/0!"},"YES"]
[412,null,null,null,null,"NO",{"$error":"#DIV/0!"},{"$error":"#DIV/0!"},"YES"]
[413,null,null,null,null,"NO",{"$error":"#DIV/0!"},{"$error":"#DIV/0!"},"YES"]
[414,null,null,null,null,"NO",{"$error":"#DIV/0!"},{"$error":"#DIV/0!"},"YES"]
[415,null,null,null,null,"NO",{"$error":"#DIV/0!"},{"$error":"#DIV/0!"},"YES"]
[416,null,null,null,null,"NO",{"$error":"#DIV/0!"},{"$error":"#DIV/0!"},"YES"]
[417,null,null,null,null,"NO",{"$error":"#DIV/0!"},{"$error":"#DIV/0!"},"YES"]
[418,null,null,null,null,"NO",{"$error":"#DIV/0!"},{"$error":"#DIV/0!"},"YES"]
[419,null,null,null,null,"NO",{"$error":"#DIV/0!"},{"$error":"#DIV/0!"},"YES"]
[420,null,null,null,null,"NO",{"$error":"#DIV/0!"},{"$error":"#DIV/0!"},"YES"]
[421,null,null,null,null,"NO",{"$error":"#DIV/0!"},{"$error":"#DIV/0!"},"YES"]
[422,null,null,null,null,"NO",{"$error":"#DIV/0!"},{"$error":"#DIV/0!"},"YES"]
[423,null,null,null,null,"NO",{"$error":"#DIV/0!"},{"$error":"#DIV/0!"},"YES"]
[424,null,null,null,null,"NO",{"$error":"#DIV/0!"},{"$error":"#DIV/0!"},"YES"]
[425,null,null,null,null,"NO",{"$error":"#DIV/0!"},{"$error":"#DIV/0!"},"YES"]
[426,null,null,null,null,"NO",{"$error":"#DIV/0!"},{"$error":"#DIV/0!"},"YES"]
[427,null,null,null,null,"NO",{"$error":"#DIV/0!"},{"$error":"#DIV/0!"},"YES"]
[428,null,null,null,null,"NO",{"$error":"#DIV/0!"},{"$error":"#DIV/0!"},"YES"]
[429,null,null,null,null,"NO",{"$error":"#DIV/0!"},{"$error":"#DIV/0!"},"YES"]
[430,null,null,null,null,"NO",{"$error":"#DIV/0!"},{"$error":"#DIV/0!"},"YES"]
[431,null,null,null,null,"NO",{"$error":"#DIV/0!"},{"$error":"#DIV/0!"},"YES"]
[432,null,null,null,null,"NO",{"$error":"#DIV/0!"},{"$error":"#DIV/0!"},"YES"]
[433,null,null,null,null,"NO",{"$error":"#DIV/0!"},{"$error":"#DIV/0!"},"YES"]
[434,null,null,null,null,"NO",{"$error":"#DIV/0!"},{"$error":"#DIV/0!"},"YES"]
[435,null,null,null,null,"NO",{"$error":"#DIV/0!"},{"$error":"#DIV/0!"},"YES"]
[436,null,null,null,null,"NO",{"$error":"#DIV/0!"},{"$error":"#DIV/0!"},"YES"]
[437,null,null,null,null,"NO",{"$error":"#DIV/0!"},{"$error":"#DIV/0!"},"YES"]
[438,null,null,null,null,"NO",{"$error":"#DIV/0!"},{"$error":"#DIV/0!"},"YES"]
[439,null,null,null,null,"NO",{"$error":"#DIV/0!"},{"$error":"#DIV/0!"},"YES"]
[440,null,null,null,null,"NO",{"$error":"#DIV/0!"},{"$error":"#DIV/0!"},"YES"]
[441,null,null,null,null,"NO",{"$error":"#DIV/0!"},{"$error":"#DIV/0!"},"YES"]
[442,null,null,null,null,"NO",{"$error":"#DIV/0!"},{"$error":"#DIV/0!"},"YES"]
[443,null,null,null,null,"NO",{"$error":"#DIV/0!"},{"$error":"#DIV/0!"},"YES"]
[444,null,null,null,null,"NO",{"$error":"#DIV/0!"},{"$error":"#DIV/0!"},"YES"]
[445,null,null,null,null,"NO",{"$error":"#DIV/0!"},{"$error":"#DIV/0!"},"YES"]
[446,null,null,null,null,"NO",{"$error":"#DIV/0!"},{"$error":"#DIV/0!"},"YES"]
[447,null,null,null,null,"NO",{"$error":"#DIV/0!"},{"$error":"#DIV/0!"},"YES"]
[448,null,null,null,null,"NO",{"$error":"#DIV/0!"},{"$error":"#DIV/0!"},"YES"]
[449,null,null,null,null,{"$f":"IF((Grade_Level=6)*AND(Post_Test>=Grade6),\"YES\",IF((Grade_Level=7)*AND(Post_Test>=Grade7),\"YES\",IF((Grade_Level=8)*AND(Post_Test>=Grade8),\"YES\",IF((Post_Test>Pre_Test),\"YES\",\"NO\"))))","v":"NO"},{"$f":"(Post_Test-Pre_Test)/Pre_Test","v":{"$error":"#DIV/0!"}},{"$f":"IF(((Grade_Level=6)*AND(Post_Test>=Grade6)*AND(Rate_of_Improvement<=0.5)),0.5,IF(((Grade_Level=7)*AND(Post_Test>=Grade7)*AND(Rate_of_Improvement<=0.5)),0.5,IF(((Grade_Level=8)*AND(Post_Test>=Grade8)*AND(Rate_of_Improvement<=0.5)),0.5,Rate_of_Improvement)))","v":{"$error":"#DIV/0!"}},"YES"]
[450,null,null,null,null,"NO",{"$error":"#DIV/0!"},{"$error":"#DIV/0!"},"YES"]
[451,null,null,null,null,"NO",{"$error":"#DIV/0!"},{"$error":"#DIV/0!"},"YES"]
[452,null,null,null,null,"NO",{"$error":"#DIV/0!"},{"$error":"#DIV/0!"},"YES"]
[453,null,null,null,null,"NO",{"$error":"#DIV/0!"},{"$error":"#DIV/0!"},"YES"]
[454,null,null,null,null,"NO",{"$error":"#DIV/0!"},{"$error":"#DIV/0!"},"YES"]
[455,null,null,null,null,"NO",{"$error":"#DIV/0!"},{"$error":"#DIV/0!"},"YES"]
[456,null,null,null,null,"NO",{"$error":"#DIV/0!"},{"$error":"#DIV/0!"},"YES"]
[457,null,null,null,null,"NO",{"$error":"#DIV/0!"},{"$error":"#DIV/0!"},"YES"]
[458,null,null,null,null,"NO",{"$error":"#DIV/0!"},{"$error":"#DIV/0!"},"YES"]
[459,null,null,null,null,"NO",{"$error":"#DIV/0!"},{"$error":"#DIV/0!"},"YES"]
[460,null,null,null,null,"NO",{"$error":"#DIV/0!"},{"$error":"#DIV/0!"},"YES"]
[461,null,null,null,null,"NO",{"$error":"#DIV/0!"},{"$error":"#DIV/0!"},"YES"]
[462,null,null,null,null,"NO",{"$error":"#DIV/0!"},{"$error":"#DIV/0!"},"YES"]
[463,null,null,null,null,"NO",{"$error":"#DIV/0!"},{"$error":"#DIV/0!"},"YES"]
[464,null,null,null,null,"NO",{"$error":"#DIV/0!"},{"$error":"#DIV/0!"},"YES"]
[465,null,null,null,null,"NO",{"$error":"#DIV/0!"},{"$error":"#DIV/0!"},"YES"]
[466,null,null,null,null,"NO",{"$error":"#DIV/0!"},{"$error":"#DIV/0!"},"YES"]
[467,null,null,null,null,"NO",{"$error":"#DIV/0!"},{"$error":"#DIV/0!"},"YES"]
[468,null,null,null,null,"NO",{"$error":"#DIV/0!"},{"$error":"#DIV/0!"},"YES"]
[469,null,null,null,null,"NO",{"$error":"#DIV/0!"},{"$error":"#DIV/0!"},"YES"]
[470,null,null,null,null,"NO",{"$error":"#DIV/0!"},{"$error":"#DIV/0!"},"YES"]
[471,null,null,null,null,"NO",{"$error":"#DIV/0!"},{"$error":"#DIV/0!"},"YES"]
[472,null,null,null,null,"NO",{"$error":"#DIV/0!"},{"$error":"#DIV/0!"},"YES"]
[473,null,null,null,null,"NO",{"$error":"#DIV/0!"},{"$error":"#DIV/0!"},"YES"]
[474,null,null,null,null,"NO",{"$error":"#DIV/0!"},{"$error":"#DIV/0!"},"YES"]
[475,null,null,null,null,"NO",{"$error":"#DIV/0!"},{"$error":"#DIV/0!"},"YES"]
[476,null,null,null,null,"NO",{"$error":"#DIV/0!"},{"$error":"#DIV/0!"},"YES"]
[477,null,null,null,null,"NO",{"$error":"#DIV/0!"},{"$error":"#DIV/0!"},"YES"]
[478,null,null,null,null,"NO",{"$error":"#DIV/0!"},{"$error":"#DIV/0!"},"YES"]
[479,null,null,null,null,"NO",{"$error":"#DIV/0!"},{"$error":"#DIV/0!"},"YES"]
[480,null,null,null,null,"NO",{"$error":"#DIV/0!"},{"$error":"#DIV/0!"},"YES"]
[481,null,null,null,null,"NO",{"$error":"#DIV/0!"},{"$error":"#DIV/0!"},"YES"]
[482,null,null,null,null,"NO",{"$error":"#DIV/0!"},{"$error":"#DIV/0!"},"YES"]
[483,null,null,null,null,"NO",{"$error":"#DIV/0!"},{"$error":"#DIV/0!"},"YES"]
[484,null,null,null,null,"NO",{"$error":"#DIV/0!"},{"$error":"#DIV/0!"},"YES"]
[485,null,null,null,null,"NO",{"$error":"#DIV/0!"},{"$error":"#DIV/0!"},"YES"]
[486,null,null,null,null,"NO",{"$error":"#DIV/0!"},{"$error":"#DIV/0!"},"YES"]
[487,null,null,null,null,"NO",{"$error":"#DIV/0!"},{"$error":"#DIV/0!"},"YES"]
[488,null,null,null,null,"NO",{"$error":"#DIV/0!"},{"$error":"#DIV/0!"},"YES"]
[489,null,null,null,null,"NO",{"$error":"#DIV/0!"},{"$error":"#DIV/0!"},"YES"]
[490,null,null,null,null,"NO",{"$error":"#DIV/0!"},{"$error":"#DIV/0!"},"YES"]
[491,null,null,null,null,"NO",{"$error":"#DIV/0!"},{"$error":"#DIV/0!"},"YES"]
[492,null,null,null,null,"NO",{"$error":"#DIV/0!"},{"$error":"#DIV/0!"},"YES"]
[493,null,null,null,null,"NO",{"$error":"#DIV/0!"},{"$error":"#DIV/0!"},"YES"]
[494,null,null,null,null,"NO",{"$error":"#DIV/0!"},{"$error":"#DIV/0!"},"YES"]
[495,null,null,null,null,"NO",{"$error":"#DIV/0!"},{"$error":"#DIV/0!"},"YES"]
[496,null,null,null,null,"NO",{"$error":"#DIV/0!"},{"$error":"#DIV/0!"},"YES"]
[497,null,null,null,null,"NO",{"$error":"#DIV/0!"},{"$error":"#DIV/0!"},"YES"]
[498,null,null,null,null,"NO",{"$error":"#DIV/0!"},{"$error":"#DIV/0!"},"YES"]
[499,null,null,null,null,"NO",{"$error":"#DIV/0!"},{"$error":"#DIV/0!"},"YES"]
[500,null,null,null,null,"NO",{"$error":"#DIV/0!"},{"$error":"#DIV/0!"},"YES"]
[501,null,null,null,null,"NO",{"$error":"#DIV/0!"},{"$error":"#DIV/0!"},"YES"]
[502,null,null,null,null,"NO",{"$error":"#DIV/0!"},{"$error":"#DIV/0!"},"YES"]
[503,null,null,null,null,"NO",{"$error":"#DIV/0!"},{"$error":"#DIV/0!"},"YES"]
[504,null,null,null,null,"NO",{"$error":"#DIV/0!"},{"$error":"#DIV/0!"},"YES"]
[505,null,null,null,null,"NO",{"$error":"#DIV/0!"},{"$error":"#DIV/0!"},"YES"]
[506,null,null,null,null,"NO",{"$error":"#DIV/0!"},{"$error":"#DIV/0!"},"YES"]
[507,null,null,null,null,"NO",{"$error":"#DIV/0!"},{"$error":"#DIV/0!"},"YES"]
[508,null,null,null,null,"NO",{"$error":"#DIV/0!"},{"$error":"#DIV/0!"},"YES"]
[509,null,null,null,null,"NO",{"$error":"#DIV/0!"},{"$error":"#DIV/0!"},"YES"]
[510,null,null,null,null,"NO",{"$error":"#DIV/0!"},{"$error":"#DIV/0!"},"YES"]

{"sheet":"Exclusions","index":1,"n_rows":521,"n_cols":3,"rows_kept":521,"cut":false,"hidden":false,"merged":[[515,2,515,5],[516,2,516,5],[517,2,517,5],[518,2,518,5],[519,2,519,5],[520,2,520,5],[506,2,506,5],[507,2,507,5],[508,2,508,5],[509,2,509,5],[510,2,510,5],[511,2,511,5],[512,2,512,5],[513,2,513,5],[514,2,514,5],[497,2,497,5],[498,2,498,5],[499,2,499,5],[500,2,500,5],[501,2,501,5],[502,2,502,5],[503,2,503,5],[504,2,504,5],[505,2,505,5],[488,2,488,5],[489,2,489,5],[490,2,490,5],[491,2,491,5],[492,2,492,5],[493,2,493,5],[494,2,494,5],[495,2,495,5],[496,2,496,5],[479,2,479,5],[480,2,480,5],[481,2,481,5],[482,2,482,5],[483,2,483,5],[484,2,484,5],[485,2,485,5],[486,2,486,5],[487,2,487,5],[470,2,470,5],[471,2,471,5],[472,2,472,5],[473,2,473,5],[474,2,474,5],[475,2,475,5],[476,2,476,5],[477,2,477,5],[478,2,478,5],[461,2,461,5],[462,2,462,5],[463,2,463,5],[464,2,464,5],[465,2,465,5],[466,2,466,5],[467,2,467,5],[468,2,468,5],[469,2,469,5],[452,2,452,5],[453,2,453,5],[454,2,454,5],[455,2,455,5],[456,2,456,5],[457,2,457,5],[458,2,458,5],[459,2,459,5],[460,2,460,5],[443,2,443,5],[444,2,444,5],[445,2,445,5],[446,2,446,5],[447,2,447,5],[448,2,448,5],[449,2,449,5],[450,2,450,5],[451,2,451,5],[434,2,434,5],[435,2,435,5],[436,2,436,5],[437,2,437,5],[438,2,438,5],[439,2,439,5],[440,2,440,5],[441,2,441,5],[442,2,442,5],[425,2,425,5],[426,2,426,5],[427,2,427,5],[428,2,428,5],[429,2,429,5],[430,2,430,5],[431,2,431,5],[432,2,432,5],[433,2,433,5],[416,2,416,5],[417,2,417,5],[418,2,418,5],[419,2,419,5],[420,2,420,5],[421,2,421,5],[422,2,422,5],[423,2,423,5],[424,2,424,5],[407,2,407,5],[408,2,408,5],[409,2,409,5],[410,2,410,5],[411,2,411,5],[412,2,412,5],[413,2,413,5],[414,2,414,5],[415,2,415,5],[398,2,398,5],[399,2,399,5],[400,2,400,5],[401,2,401,5],[402,2,402,5],[403,2,403,5],[404,2,404,5],[405,2,405,5],[406,2,406,5],[389,2,389,5],[390,2,390,5],[391,2,391,5],[392,2,392,5],[393,2,393,5],[394,2,394,5],[395,2,395,5],[396,2,396,5],[397,2,397,5],[380,2,380,5],[381,2,381,5],[382,2,382,5],[383,2,383,5],[384,2,384,5],[385,2,385,5],[386,2,386,5],[387,2,387,5],[388,2,388,5],[371,2,371,5],[372,2,372,5],[373,2,373,5],[374,2,374,5],[375,2,375,5],[376,2,376,5],[377,2,377,5],[378,2,378,5],[379,2,379,5],[19,2,19,5],[20,2,20,5],[21,2,21,5],[9,0,9,5],[10,2,10,5],[11,2,11,5],[12,2,12,5],[13,2,13,5],[14,2,14,5],[15,2,15,5],[16,2,16,5],[17,2,17,5],[18,2,18,5],[28,2,28,5],[29,2,29,5],[30,2,30,5],[22,2,22,5],[23,2,23,5],[24,2,24,5],[25,2,25,5],[26,2,26,5],[27,2,27,5],[47,2,47,5],[48,2,48,5],[49,2,49,5],[31,2,31,5],[32,2,32,5],[33,2,33,5],[34,2,34,5],[41,2,41,5],[42,2,42,5],[43,2,43,5],[36,2,36,5],[37,2,37,5],[38,2,38,5],[39,2,39,5],[40,2,40,5],[35,2,35,5],[66,2,66,5],[67,2,67,5],[68,2,68,5],[69,2,69,5],[70,2,70,5],[44,2,44,5],[45,2,45,5],[50,2,50,5],[61,2,61,5],[62,2,62,5],[63,2,63,5],[64,2,64,5],[65,2,65,5],[56,2,56,5],[57,2,57,5],[58,2,58,5],[59,2,59,5],[60,2,60,5],[51,2,51,5],[52,2,52,5],[53,2,53,5],[54,2,54,5],[55,2,55,5],[46,2,46,5],[76,2,76,5],[77,2,77,5],[78,2,78,5],[79,2,79,5],[80,2,80,5],[71,2,71,5],[72,2,72,5],[73,2,73,5],[74,2,74,5],[75,2,75,5],[86,2,86,5],[87,2,87,5],[88,2,88,5],[89,2,89,5],[90,2,90,5],[81,2,81,5],[82,2,82,5],[83,2,83,5],[84,2,84,5],[85,2,85,5],[96,2,96,5],[97,2,97,5],[98,2,98,5],[99,2,99,5],[100,2,100,5],[91,2,91,5],[92,2,92,5],[93,2,93,5],[94,2,94,5],[95,2,95,5],[106,2,106,5],[107,2,107,5],[108,2,108,5],[109,2,109,5],[110,2,110,5],[101,2,101,5],[102,2,102,5],[103,2,103,5],[104,2,104,5],[105,2,105,5],[116,2,116,5],[117,2,117,5],[118,2,118,5],[119,2,119,5],[120,2,120,5],[111,2,111,5],[112,2,112,5],[113,2,113,5],[114,2,114,5],[115,2,115,5],[126,2,126,5],[127,2,127,5],[128,2,128,5],[129,2,129,5],[130,2,130,5],[121,2,121,5],[122,2,122,5],[123,2,123,5],[124,2,124,5],[125,2,125,5],[136,2,136,5],[137,2,137,5],[138,2,138,5],[139,2,139,5],[140,2,140,5],[131,2,131,5],[132,2,132,5],[133,2,133,5],[134,2,134,5],[135,2,135,5],[146,2,146,5],[147,2,147,5],[148,2,148,5],[149,2,149,5],[150,2,150,5],[141,2,141,5],[142,2,142,5],[143,2,143,5],[144,2,144,5],[145,2,145,5],[156,2,156,5],[157,2,157,5],[158,2,158,5],[159,2,159,5],[160,2,160,5],[151,2,151,5],[152,2,152,5],[153,2,153,5],[154,2,154,5],[155,2,155,5],[166,2,166,5],[167,2,167,5],[168,2,168,5],[169,2,169,5],[161,2,161,5],[162,2,162,5],[163,2,163,5],[164,2,164,5],[165,2,165,5],[184,2,184,5],[185,2,185,5],[176,2,176,5],[177,2,177,5],[178,2,178,5],[179,2,179,5],[180,2,180,5],[170,2,170,5],[191,2,191,5],[186,2,186,5],[187,2,187,5],[188,2,188,5],[189,2,189,5],[190,2,190,5],[181,2,181,5],[182,2,182,5],[183,2,183,5],[171,2,171,5],[172,2,172,5],[173,2,173,5],[174,2,174,5],[175,2,175,5],[198,2,198,5],[199,2,199,5],[200,2,200,5],[201,2,201,5],[202,2,202,5],[203,2,203,5],[192,2,192,5],[193,2,193,5],[194,2,194,5],[195,2,195,5],[196,2,196,5],[197,2,197,5],[210,2,210,5],[211,2,211,5],[212,2,212,5],[213,2,213,5],[214,2,214,5],[215,2,215,5],[204,2,204,5],[205,2,205,5],[206,2,206,5],[207,2,207,5],[208,2,208,5],[209,2,209,5],[222,2,222,5],[223,2,223,5],[224,2,224,5],[225,2,225,5],[226,2,226,5],[227,2,227,5],[216,2,216,5],[217,2,217,5],[218,2,218,5],[219,2,219,5],[220,2,220,5],[221,2,221,5],[234,2,234,5],[235,2,235,5],[236,2,236,5],[237,2,237,5],[238,2,238,5],[239,2,239,5],[228,2,228,5],[229,2,229,5],[230,2,230,5],[231,2,231,5],[232,2,232,5],[233,2,233,5],[246,2,246,5],[247,2,247,5],[248,2,248,5],[249,2,249,5],[250,2,250,5],[251,2,251,5],[240,2,240,5],[241,2,241,5],[242,2,242,5],[243,2,243,5],[244,2,244,5],[245,2,245,5],[258,2,258,5],[259,2,259,5],[260,2,260,5],[261,2,261,5],[262,2,262,5],[263,2,263,5],[252,2,252,5],[253,2,253,5],[254,2,254,5],[255,2,255,5],[256,2,256,5],[257,2,257,5],[270,2,270,5],[271,2,271,5],[272,2,272,5],[273,2,273,5],[274,2,274,5],[275,2,275,5],[264,2,264,5],[265,2,265,5],[266,2,266,5],[267,2,267,5],[268,2,268,5],[269,2,269,5],[282,2,282,5],[283,2,283,5],[284,2,284,5],[285,2,285,5],[286,2,286,5],[287,2,287,5],[276,2,276,5],[277,2,277,5],[278,2,278,5],[279,2,279,5],[280,2,280,5],[281,2,281,5],[294,2,294,5],[295,2,295,5],[296,2,296,5],[297,2,297,5],[298,2,298,5],[299,2,299,5],[288,2,288,5],[289,2,289,5],[290,2,290,5],[291,2,291,5],[292,2,292,5],[293,2,293,5],[306,2,306,5],[307,2,307,5],[308,2,308,5],[309,2,309,5],[310,2,310,5],[311,2,311,5],[300,2,300,5],[301,2,301,5],[302,2,302,5],[303,2,303,5],[304,2,304,5],[305,2,305,5],[318,2,318,5],[319,2,319,5],[320,2,320,5],[321,2,321,5],[322,2,322,5],[323,2,323,5],[312,2,312,5],[313,2,313,5],[314,2,314,5],[315,2,315,5],[316,2,316,5],[317,2,317,5],[330,2,330,5],[331,2,331,5],[332,2,332,5],[333,2,333,5],[334,2,334,5],[335,2,335,5],[324,2,324,5],[325,2,325,5],[326,2,326,5],[327,2,327,5],[328,2,328,5],[329,2,329,5],[353,2,353,5],[342,2,342,5],[343,2,343,5],[344,2,344,5],[345,2,345,5],[346,2,346,5],[347,2,347,5],[336,2,336,5],[337,2,337,5],[338,2,338,5],[339,2,339,5],[340,2,340,5],[341,2,341,5],[0,1,1,5],[2,1,3,5],[366,2,366,5],[367,2,367,5],[368,2,368,5],[369,2,369,5],[370,2,370,5],[360,2,360,5],[361,2,361,5],[362,2,362,5],[363,2,363,5],[364,2,364,5],[365,2,365,5],[354,2,354,5],[355,2,355,5],[356,2,356,5],[357,2,357,5],[358,2,358,5],[359,2,359,5],[348,2,348,5],[349,2,349,5],[350,2,350,5],[351,2,351,5],[352,2,352,5]]}
[null,"Have you completed all the work on the \"Roster\" tab (all the students and their scores are entered, there are no empty cells in the \"Grade Level\", \"Pre Test Score\", and / or \"Post Test Score\" columns), and all the students, whose scores should be excluded were marked \"NO\" in the \"Score Counted for Data?\" column?"]
[]
[null,"If \"YES\", please click the \"NEXT\" button."]
[]
[]
[]
[]
[]
[]
["For each student listed (excluded from the count), please enter a brief explanation why."]
[null,"Student Name (Last and First)","Reason for removing student from evaluative data"]
[1,{"$f":"IF(Roster!I2=\"no\", Roster!B2, \"DELETE\")","v":"DELETE"}]
[2,{"$f":"IF(Roster!I3=\"no\", Roster!B3, \"DELETE\")","v":"DELETE"}]
[3,{"$f":"IF(Roster!I4=\"no\", Roster!B4, \"DELETE\")","v":"DELETE"}]
[4,{"$f":"IF(Roster!I5=\"no\", Roster!B5, \"DELETE\")","v":"DELETE"}]
[5,{"$f":"IF(Roster!I6=\"no\", Roster!B6, \"DELETE\")","v":"DELETE"}]
[6,{"$f":"IF(Roster!I7=\"no\", Roster!B7, \"DELETE\")","v":"DELETE"}]
[7,{"$f":"IF(Roster!I8=\"no\", Roster!B8, \"DELETE\")","v":"DELETE"}]
[8,{"$f":"IF(Roster!I9=\"no\", Roster!B9, \"DELETE\")","v":"DELETE"}]
[9,{"$f":"IF(Roster!I10=\"no\", Roster!B10, \"DELETE\")","v":"DELETE"}]
[10,{"$f":"IF(Roster!I11=\"no\", Roster!B11, \"DELETE\")","v":"DELETE"}]
[11,{"$f":"IF(Roster!I12=\"no\", Roster!B12, \"DELETE\")","v":"DELETE"}]
[12,{"$f":"IF(Roster!I13=\"no\", Roster!B13, \"DELETE\")","v":"DELETE"}]
[13,{"$f":"IF(Roster!I14=\"no\", Roster!B14, \"DELETE\")","v":"DELETE"}]
[14,{"$f":"IF(Roster!I15=\"no\", Roster!B15, \"DELETE\")","v":"DELETE"}]
[15,{"$f":"IF(Roster!I16=\"no\", Roster!B16, \"DELETE\")","v":"DELETE"}]
[16,{"$f":"IF(Roster!I17=\"no\", Roster!B17, \"DELETE\")","v":"DELETE"}]
[17,{"$f":"IF(Roster!I18=\"no\", Roster!B18, \"DELETE\")","v":"DELETE"}]
[18,{"$f":"IF(Roster!I19=\"no\", Roster!B19, \"DELETE\")","v":"DELETE"}]
[19,{"$f":"IF(Roster!I20=\"no\", Roster!B20, \"DELETE\")","v":"DELETE"}]
[20,{"$f":"IF(Roster!I21=\"no\", Roster!B21, \"DELETE\")","v":"DELETE"}]
[21,{"$f":"IF(Roster!I22=\"no\", Roster!B22, \"DELETE\")","v":"DELETE"}]
[22,{"$f":"IF(Roster!I23=\"no\", Roster!B23, \"DELETE\")","v":"DELETE"}]
[23,{"$f":"IF(Roster!I24=\"no\", Roster!B24, \"DELETE\")","v":"DELETE"}]
[24,{"$f":"IF(Roster!I25=\"no\", Roster!B25, \"DELETE\")","v":"DELETE"}]
[25,{"$f":"IF(Roster!I26=\"no\", Roster!B26, \"DELETE\")","v":"DELETE"}]
[26,{"$f":"IF(Roster!I27=\"no\", Roster!B27, \"DELETE\")","v":"DELETE"}]
[27,{"$f":"IF(Roster!I28=\"no\", Roster!B28, \"DELETE\")","v":"DELETE"}]
[28,{"$f":"IF(Roster!I29=\"no\", Roster!B29, \"DELETE\")","v":"DELETE"}]
[29,{"$f":"IF(Roster!I30=\"no\", Roster!B30, \"DELETE\")","v":"DELETE"}]
[30,{"$f":"IF(Roster!I31=\"no\", Roster!B31, \"DELETE\")","v":"DELETE"}]
[31,{"$f":"IF(Roster!I32=\"no\", Roster!B32, \"DELETE\")","v":"DELETE"}]
[32,{"$f":"IF(Roster!I33=\"no\", Roster!B33, \"DELETE\")","v":"DELETE"}]
[33,{"$f":"IF(Roster!I34=\"no\", Roster!B34, \"DELETE\")","v":"DELETE"}]
[34,{"$f":"IF(Roster!I35=\"no\", Roster!B35, \"DELETE\")","v":"DELETE"}]
[35,{"$f":"IF(Roster!I36=\"no\", Roster!B36, \"DELETE\")","v":"DELETE"}]
[36,{"$f":"IF(Roster!I37=\"no\", Roster!B37, \"DELETE\")","v":"DELETE"}]
[37,{"$f":"IF(Roster!I38=\"no\", Roster!B38, \"DELETE\")","v":"DELETE"}]
[38,{"$f":"IF(Roster!I39=\"no\", Roster!B39, \"DELETE\")","v":"DELETE"}]
[39,{"$f":"IF(Roster!I40=\"no\", Roster!B40, \"DELETE\")","v":"DELETE"}]
[40,{"$f":"IF(Roster!I41=\"no\", Roster!B41, \"DELETE\")","v":"DELETE"}]
[41,{"$f":"IF(Roster!I42=\"no\", Roster!B42, \"DELETE\")","v":"DELETE"}]
[42,{"$f":"IF(Roster!I43=\"no\", Roster!B43, \"DELETE\")","v":"DELETE"}]
[43,{"$f":"IF(Roster!I44=\"no\", Roster!B44, \"DELETE\")","v":"DELETE"}]
[44,{"$f":"IF(Roster!I45=\"no\", Roster!B45, \"DELETE\")","v":"DELETE"}]
[45,{"$f":"IF(Roster!I46=\"no\", Roster!B46, \"DELETE\")","v":"DELETE"}]
[46,{"$f":"IF(Roster!I47=\"no\", Roster!B47, \"DELETE\")","v":"DELETE"}]
[47,{"$f":"IF(Roster!I48=\"no\", Roster!B48, \"DELETE\")","v":"DELETE"}]
[48,{"$f":"IF(Roster!I49=\"no\", Roster!B49, \"DELETE\")","v":"DELETE"}]
[49,{"$f":"IF(Roster!I50=\"no\", Roster!B50, \"DELETE\")","v":"DELETE"}]
[50,{"$f":"IF(Roster!I51=\"no\", Roster!B51, \"DELETE\")","v":"DELETE"}]
[51,{"$f":"IF(Roster!I52=\"no\", Roster!B52, \"DELETE\")","v":"DELETE"}]
[52,{"$f":"IF(Roster!I53=\"no\", Roster!B53, \"DELETE\")","v":"DELETE"}]
[53,{"$f":"IF(Roster!I54=\"no\", Roster!B54, \"DELETE\")","v":"DELETE"}]
[54,{"$f":"IF(Roster!I55=\"no\", Roster!B55, \"DELETE\")","v":"DELETE"}]
[55,{"$f":"IF(Roster!I56=\"no\", Roster!B56, \"DELETE\")","v":"DELETE"}]
[56,{"$f":"IF(Roster!I57=\"no\", Roster!B57, \"DELETE\")","v":"DELETE"}]
[57,{"$f":"IF(Roster!I58=\"no\", Roster!B58, \"DELETE\")","v":"DELETE"}]
[58,{"$f":"IF(Roster!I59=\"no\", Roster!B59, \"DELETE\")","v":"DELETE"}]
[59,{"$f":"IF(Roster!I60=\"no\", Roster!B60, \"DELETE\")","v":"DELETE"}]
[60,{"$f":"IF(Roster!I61=\"no\", Roster!B61, \"DELETE\")","v":"DELETE"}]
[61,{"$f":"IF(Roster!I62=\"no\", Roster!B62, \"DELETE\")","v":"DELETE"}]
[62,{"$f":"IF(Roster!I63=\"no\", Roster!B63, \"DELETE\")","v":"DELETE"}]
[63,{"$f":"IF(Roster!I64=\"no\", Roster!B64, \"DELETE\")","v":"DELETE"}]
[64,{"$f":"IF(Roster!I65=\"no\", Roster!B65, \"DELETE\")","v":"DELETE"}]
[65,{"$f":"IF(Roster!I66=\"no\", Roster!B66, \"DELETE\")","v":"DELETE"}]
[66,{"$f":"IF(Roster!I67=\"no\", Roster!B67, \"DELETE\")","v":"DELETE"}]
[67,{"$f":"IF(Roster!I68=\"no\", Roster!B68, \"DELETE\")","v":"DELETE"}]
[68,{"$f":"IF(Roster!I69=\"no\", Roster!B69, \"DELETE\")","v":"DELETE"}]
[69,{"$f":"IF(Roster!I70=\"no\", Roster!B70, \"DELETE\")","v":"DELETE"}]
[70,{"$f":"IF(Roster!I71=\"no\", Roster!B71, \"DELETE\")","v":"DELETE"}]
[71,{"$f":"IF(Roster!I72=\"no\", Roster!B72, \"DELETE\")","v":"DELETE"}]
[72,{"$f":"IF(Roster!I73=\"no\", Roster!B73, \"DELETE\")","v":"DELETE"}]
[73,{"$f":"IF(Roster!I74=\"no\", Roster!B74, \"DELETE\")","v":"DELETE"}]
[74,{"$f":"IF(Roster!I75=\"no\", Roster!B75, \"DELETE\")","v":"DELETE"}]
[75,{"$f":"IF(Roster!I76=\"no\", Roster!B76, \"DELETE\")","v":"DELETE"}]
[76,{"$f":"IF(Roster!I77=\"no\", Roster!B77, \"DELETE\")","v":"DELETE"}]
[77,{"$f":"IF(Roster!I78=\"no\", Roster!B78, \"DELETE\")","v":"DELETE"}]
[78,{"$f":"IF(Roster!I79=\"no\", Roster!B79, \"DELETE\")","v":"DELETE"}]
[79,{"$f":"IF(Roster!I80=\"no\", Roster!B80, \"DELETE\")","v":"DELETE"}]
[80,{"$f":"IF(Roster!I81=\"no\", Roster!B81, \"DELETE\")","v":"DELETE"}]
[81,{"$f":"IF(Roster!I82=\"no\", Roster!B82, \"DELETE\")","v":"DELETE"}]
[82,{"$f":"IF(Roster!I83=\"no\", Roster!B83, \"DELETE\")","v":"DELETE"}]
[83,{"$f":"IF(Roster!I84=\"no\", Roster!B84, \"DELETE\")","v":"DELETE"}]
[84,{"$f":"IF(Roster!I85=\"no\", Roster!B85, \"DELETE\")","v":"DELETE"}]
[85,{"$f":"IF(Roster!I86=\"no\", Roster!B86, \"DELETE\")","v":"DELETE"}]
[86,{"$f":"IF(Roster!I87=\"no\", Roster!B87, \"DELETE\")","v":"DELETE"}]
[87,{"$f":"IF(Roster!I88=\"no\", Roster!B88, \"DELETE\")","v":"DELETE"}]
[88,{"$f":"IF(Roster!I89=\"no\", Roster!B89, \"DELETE\")","v":"DELETE"}]
[89,{"$f":"IF(Roster!I90=\"no\", Roster!B90, \"DELETE\")","v":"DELETE"}]
[90,{"$f":"IF(Roster!I91=\"no\", Roster!B91, \"DELETE\")","v":"DELETE"}]
[91,{"$f":"IF(Roster!I92=\"no\", Roster!B92, \"DELETE\")","v":"DELETE"}]
[92,{"$f":"IF(Roster!I93=\"no\", Roster!B93, \"DELETE\")","v":"DELETE"}]
[93,{"$f":"IF(Roster!I94=\"no\", Roster!B94, \"DELETE\")","v":"DELETE"}]
[94,{"$f":"IF(Roster!I95=\"no\", Roster!B95, \"DELETE\")","v":"DELETE"}]
[95,{"$f":"IF(Roster!I96=\"no\", Roster!B96, \"DELETE\")","v":"DELETE"}]
[96,{"$f":"IF(Roster!I97=\"no\", Roster!B97, \"DELETE\")","v":"DELETE"}]
[97,{"$f":"IF(Roster!I98=\"no\", Roster!B98, \"DELETE\")","v":"DELETE"}]
[98,{"$f":"IF(Roster!I99=\"no\", Roster!B99, \"DELETE\")","v":"DELETE"}]
[99,{"$f":"IF(Roster!I100=\"no\", Roster!B100, \"DELETE\")","v":"DELETE"}]
[100,{"$f":"IF(Roster!I101=\"no\", Roster!B101, \"DELETE\")","v":"DELETE"}]
[101,{"$f":"IF(Roster!I102=\"no\", Roster!B102, \"DELETE\")","v":"DELETE"}]
[102,{"$f":"IF(Roster!I103=\"no\", Roster!B103, \"DELETE\")","v":"DELETE"}]
[103,{"$f":"IF(Roster!I104=\"no\", Roster!B104, \"DELETE\")","v":"DELETE"}]
[104,{"$f":"IF(Roster!I105=\"no\", Roster!B105, \"DELETE\")","v":"DELETE"}]
[105,{"$f":"IF(Roster!I106=\"no\", Roster!B106, \"DELETE\")","v":"DELETE"}]
[106,{"$f":"IF(Roster!I107=\"no\", Roster!B107, \"DELETE\")","v":"DELETE"}]
[107,{"$f":"IF(Roster!I108=\"no\", Roster!B108, \"DELETE\")","v":"DELETE"}]
[108,{"$f":"IF(Roster!I109=\"no\", Roster!B109, \"DELETE\")","v":"DELETE"}]
[109,{"$f":"IF(Roster!I110=\"no\", Roster!B110, \"DELETE\")","v":"DELETE"}]
[110,{"$f":"IF(Roster!I111=\"no\", Roster!B111, \"DELETE\")","v":"DELETE"}]
[111,{"$f":"IF(Roster!I112=\"no\", Roster!B112, \"DELETE\")","v":"DELETE"}]
[112,{"$f":"IF(Roster!I113=\"no\", Roster!B113, \"DELETE\")","v":"DELETE"}]
[113,{"$f":"IF(Roster!I114=\"no\", Roster!B114, \"DELETE\")","v":"DELETE"}]
[114,{"$f":"IF(Roster!I115=\"no\", Roster!B115, \"DELETE\")","v":"DELETE"}]
[115,{"$f":"IF(Roster!I116=\"no\", Roster!B116, \"DELETE\")","v":"DELETE"}]
[116,{"$f":"IF(Roster!I117=\"no\", Roster!B117, \"DELETE\")","v":"DELETE"}]
[117,{"$f":"IF(Roster!I118=\"no\", Roster!B118, \"DELETE\")","v":"DELETE"}]
[118,{"$f":"IF(Roster!I119=\"no\", Roster!B119, \"DELETE\")","v":"DELETE"}]
[119,{"$f":"IF(Roster!I120=\"no\", Roster!B120, \"DELETE\")","v":"DELETE"}]
[120,{"$f":"IF(Roster!I121=\"no\", Roster!B121, \"DELETE\")","v":"DELETE"}]
[121,{"$f":"IF(Roster!I122=\"no\", Roster!B122, \"DELETE\")","v":"DELETE"}]
[122,{"$f":"IF(Roster!I123=\"no\", Roster!B123, \"DELETE\")","v":"DELETE"}]
[123,{"$f":"IF(Roster!I124=\"no\", Roster!B124, \"DELETE\")","v":"DELETE"}]
[124,{"$f":"IF(Roster!I125=\"no\", Roster!B125, \"DELETE\")","v":"DELETE"}]
[125,{"$f":"IF(Roster!I126=\"no\", Roster!B126, \"DELETE\")","v":"DELETE"}]
[126,{"$f":"IF(Roster!I127=\"no\", Roster!B127, \"DELETE\")","v":"DELETE"}]
[127,{"$f":"IF(Roster!I128=\"no\", Roster!B128, \"DELETE\")","v":"DELETE"}]
[128,{"$f":"IF(Roster!I129=\"no\", Roster!B129, \"DELETE\")","v":"DELETE"}]
[129,{"$f":"IF(Roster!I130=\"no\", Roster!B130, \"DELETE\")","v":"DELETE"}]
[130,{"$f":"IF(Roster!I131=\"no\", Roster!B131, \"DELETE\")","v":"DELETE"}]
[131,{"$f":"IF(Roster!I132=\"no\", Roster!B132, \"DELETE\")","v":"DELETE"}]
[132,{"$f":"IF(Roster!I133=\"no\", Roster!B133, \"DELETE\")","v":"DELETE"}]
[133,{"$f":"IF(Roster!I134=\"no\", Roster!B134, \"DELETE\")","v":"DELETE"}]
[134,{"$f":"IF(Roster!I135=\"no\", Roster!B135, \"DELETE\")","v":"DELETE"}]
[135,{"$f":"IF(Roster!I136=\"no\", Roster!B136, \"DELETE\")","v":"DELETE"}]
[136,{"$f":"IF(Roster!I137=\"no\", Roster!B137, \"DELETE\")","v":"DELETE"}]
[137,{"$f":"IF(Roster!I138=\"no\", Roster!B138, \"DELETE\")","v":"DELETE"}]
[138,{"$f":"IF(Roster!I139=\"no\", Roster!B139, \"DELETE\")","v":"DELETE"}]
[139,{"$f":"IF(Roster!I140=\"no\", Roster!B140, \"DELETE\")","v":"DELETE"}]
[140,{"$f":"IF(Roster!I141=\"no\", Roster!B141, \"DELETE\")","v":"DELETE"}]
[141,{"$f":"IF(Roster!I142=\"no\", Roster!B142, \"DELETE\")","v":"DELETE"}]
[142,{"$f":"IF(Roster!I143=\"no\", Roster!B143, \"DELETE\")","v":"DELETE"}]
[143,{"$f":"IF(Roster!I144=\"no\", Roster!B144, \"DELETE\")","v":"DELETE"}]
[144,{"$f":"IF(Roster!I145=\"no\", Roster!B145, \"DELETE\")","v":"DELETE"}]
[145,{"$f":"IF(Roster!I146=\"no\", Roster!B146, \"DELETE\")","v":"DELETE"}]
[146,{"$f":"IF(Roster!I147=\"no\", Roster!B147, \"DELETE\")","v":"DELETE"}]
[147,{"$f":"IF(Roster!I148=\"no\", Roster!B148, \"DELETE\")","v":"DELETE"}]
[148,{"$f":"IF(Roster!I149=\"no\", Roster!B149, \"DELETE\")","v":"DELETE"}]
[149,{"$f":"IF(Roster!I150=\"no\", Roster!B150, \"DELETE\")","v":"DELETE"}]
[150,{"$f":"IF(Roster!I151=\"no\", Roster!B151, \"DELETE\")","v":"DELETE"}]
[151,{"$f":"IF(Roster!I152=\"no\", Roster!B152, \"DELETE\")","v":"DELETE"}]
[152,{"$f":"IF(Roster!I153=\"no\", Roster!B153, \"DELETE\")","v":"DELETE"}]
[153,{"$f":"IF(Roster!I154=\"no\", Roster!B154, \"DELETE\")","v":"DELETE"}]
[154,{"$f":"IF(Roster!I155=\"no\", Roster!B155, \"DELETE\")","v":"DELETE"}]
[155,{"$f":"IF(Roster!I156=\"no\", Roster!B156, \"DELETE\")","v":"DELETE"}]
[156,{"$f":"IF(Roster!I157=\"no\", Roster!B157, \"DELETE\")","v":"DELETE"}]
[157,{"$f":"IF(Roster!I158=\"no\", Roster!B158, \"DELETE\")","v":"DELETE"}]
[158,{"$f":"IF(Roster!I159=\"no\", Roster!B159, \"DELETE\")","v":"DELETE"}]
[159,{"$f":"IF(Roster!I160=\"no\", Roster!B160, \"DELETE\")","v":"DELETE"}]
[160,{"$f":"IF(Roster!I161=\"no\", Roster!B161, \"DELETE\")","v":"DELETE"}]
[161,{"$f":"IF(Roster!I162=\"no\", Roster!B162, \"DELETE\")","v":"DELETE"}]
[162,{"$f":"IF(Roster!I163=\"no\", Roster!B163, \"DELETE\")","v":"DELETE"}]
[163,{"$f":"IF(Roster!I164=\"no\", Roster!B164, \"DELETE\")","v":"DELETE"}]
[164,{"$f":"IF(Roster!I165=\"no\", Roster!B165, \"DELETE\")","v":"DELETE"}]
[165,{"$f":"IF(Roster!I166=\"no\", Roster!B166, \"DELETE\")","v":"DELETE"}]
[166,{"$f":"IF(Roster!I167=\"no\", Roster!B167, \"DELETE\")","v":"DELETE"}]
[167,{"$f":"IF(Roster!I168=\"no\", Roster!B168, \"DELETE\")","v":"DELETE"}]
[168,{"$f":"IF(Roster!I169=\"no\", Roster!B169, \"DELETE\")","v":"DELETE"}]
[169,{"$f":"IF(Roster!I170=\"no\", Roster!B170, \"DELETE\")","v":"DELETE"}]
[170,{"$f":"IF(Roster!I171=\"no\", Roster!B171, \"DELETE\")","v":"DELETE"}]
[171,{"$f":"IF(Roster!I172=\"no\", Roster!B172, \"DELETE\")","v":"DELETE"}]
[172,{"$f":"IF(Roster!I173=\"no\", Roster!B173, \"DELETE\")","v":"DELETE"}]
[173,{"$f":"IF(Roster!I174=\"no\", Roster!B174, \"DELETE\")","v":"DELETE"}]
[174,{"$f":"IF(Roster!I175=\"no\", Roster!B175, \"DELETE\")","v":"DELETE"}]
[175,{"$f":"IF(Roster!I176=\"no\", Roster!B176, \"DELETE\")","v":"DELETE"}]
[176,{"$f":"IF(Roster!I177=\"no\", Roster!B177, \"DELETE\")","v":"DELETE"}]
[177,{"$f":"IF(Roster!I178=\"no\", Roster!B178, \"DELETE\")","v":"DELETE"}]
[178,{"$f":"IF(Roster!I179=\"no\", Roster!B179, \"DELETE\")","v":"DELETE"}]
[179,{"$f":"IF(Roster!I180=\"no\", Roster!B180, \"DELETE\")","v":"DELETE"}]
[180,{"$f":"IF(Roster!I181=\"no\", Roster!B181, \"DELETE\")","v":"DELETE"}]
[181,{"$f":"IF(Roster!I182=\"no\", Roster!B182, \"DELETE\")","v":"DELETE"}]
[182,{"$f":"IF(Roster!I183=\"no\", Roster!B183, \"DELETE\")","v":"DELETE"}]
[183,{"$f":"IF(Roster!I184=\"no\", Roster!B184, \"DELETE\")","v":"DELETE"}]
[184,{"$f":"IF(Roster!I185=\"no\", Roster!B185, \"DELETE\")","v":"DELETE"}]
[185,{"$f":"IF(Roster!I186=\"no\", Roster!B186, \"DELETE\")","v":"DELETE"}]
[186,{"$f":"IF(Roster!I187=\"no\", Roster!B187, \"DELETE\")","v":"DELETE"}]
[187,{"$f":"IF(Roster!I188=\"no\", Roster!B188, \"DELETE\")","v":"DELETE"}]
[188,{"$f":"IF(Roster!I189=\"no\", Roster!B189, \"DELETE\")","v":"DELETE"}]
[189,{"$f":"IF(Roster!I190=\"no\", Roster!B190, \"DELETE\")","v":"DELETE"}]
[190,{"$f":"IF(Roster!I191=\"no\", Roster!B191, \"DELETE\")","v":"DELETE"}]
[191,{"$f":"IF(Roster!I192=\"no\", Roster!B192, \"DELETE\")","v":"DELETE"}]
[192,{"$f":"IF(Roster!I193=\"no\", Roster!B193, \"DELETE\")","v":"DELETE"}]
[193,{"$f":"IF(Roster!I194=\"no\", Roster!B194, \"DELETE\")","v":"DELETE"}]
[194,{"$f":"IF(Roster!I195=\"no\", Roster!B195, \"DELETE\")","v":"DELETE"}]
[195,{"$f":"IF(Roster!I196=\"no\", Roster!B196, \"DELETE\")","v":"DELETE"}]
[196,{"$f":"IF(Roster!I197=\"no\", Roster!B197, \"DELETE\")","v":"DELETE"}]
[197,{"$f":"IF(Roster!I198=\"no\", Roster!B198, \"DELETE\")","v":"DELETE"}]
[198,{"$f":"IF(Roster!I199=\"no\", Roster!B199, \"DELETE\")","v":"DELETE"}]
[199,{"$f":"IF(Roster!I200=\"no\", Roster!B200, \"DELETE\")","v":"DELETE"}]
[200,{"$f":"IF(Roster!I201=\"no\", Roster!B201, \"DELETE\")","v":"DELETE"}]
[201,{"$f":"IF(Roster!I202=\"no\", Roster!B202, \"DELETE\")","v":"DELETE"}]
[202,{"$f":"IF(Roster!I203=\"no\", Roster!B203, \"DELETE\")","v":"DELETE"}]
[203,{"$f":"IF(Roster!I204=\"no\", Roster!B204, \"DELETE\")","v":"DELETE"}]
[204,{"$f":"IF(Roster!I205=\"no\", Roster!B205, \"DELETE\")","v":"DELETE"}]
[205,{"$f":"IF(Roster!I206=\"no\", Roster!B206, \"DELETE\")","v":"DELETE"}]
[206,{"$f":"IF(Roster!I207=\"no\", Roster!B207, \"DELETE\")","v":"DELETE"}]
[207,{"$f":"IF(Roster!I208=\"no\", Roster!B208, \"DELETE\")","v":"DELETE"}]
[208,{"$f":"IF(Roster!I209=\"no\", Roster!B209, \"DELETE\")","v":"DELETE"}]
[209,{"$f":"IF(Roster!I210=\"no\", Roster!B210, \"DELETE\")","v":"DELETE"}]
[210,{"$f":"IF(Roster!I211=\"no\", Roster!B211, \"DELETE\")","v":"DELETE"}]
[211,{"$f":"IF(Roster!I212=\"no\", Roster!B212, \"DELETE\")","v":"DELETE"}]
[212,{"$f":"IF(Roster!I213=\"no\", Roster!B213, \"DELETE\")","v":"DELETE"}]
[213,{"$f":"IF(Roster!I214=\"no\", Roster!B214, \"DELETE\")","v":"DELETE"}]
[214,{"$f":"IF(Roster!I215=\"no\", Roster!B215, \"DELETE\")","v":"DELETE"}]
[215,{"$f":"IF(Roster!I216=\"no\", Roster!B216, \"DELETE\")","v":"DELETE"}]
[216,{"$f":"IF(Roster!I217=\"no\", Roster!B217, \"DELETE\")","v":"DELETE"}]
[217,{"$f":"IF(Roster!I218=\"no\", Roster!B218, \"DELETE\")","v":"DELETE"}]
[218,{"$f":"IF(Roster!I219=\"no\", Roster!B219, \"DELETE\")","v":"DELETE"}]
[219,{"$f":"IF(Roster!I220=\"no\", Roster!B220, \"DELETE\")","v":"DELETE"}]
[220,{"$f":"IF(Roster!I221=\"no\", Roster!B221, \"DELETE\")","v":"DELETE"}]
[221,{"$f":"IF(Roster!I222=\"no\", Roster!B222, \"DELETE\")","v":"DELETE"}]
[222,{"$f":"IF(Roster!I223=\"no\", Roster!B223, \"DELETE\")","v":"DELETE"}]
[223,{"$f":"IF(Roster!I224=\"no\", Roster!B224, \"DELETE\")","v":"DELETE"}]
[224,{"$f":"IF(Roster!I225=\"no\", Roster!B225, \"DELETE\")","v":"DELETE"}]
[225,{"$f":"IF(Roster!I226=\"no\", Roster!B226, \"DELETE\")","v":"DELETE"}]
[226,{"$f":"IF(Roster!I227=\"no\", Roster!B227, \"DELETE\")","v":"DELETE"}]
[227,{"$f":"IF(Roster!I228=\"no\", Roster!B228, \"DELETE\")","v":"DELETE"}]
[228,{"$f":"IF(Roster!I229=\"no\", Roster!B229, \"DELETE\")","v":"DELETE"}]
[229,{"$f":"IF(Roster!I230=\"no\", Roster!B230, \"DELETE\")","v":"DELETE"}]
[230,{"$f":"IF(Roster!I231=\"no\", Roster!B231, \"DELETE\")","v":"DELETE"}]
[231,{"$f":"IF(Roster!I232=\"no\", Roster!B232, \"DELETE\")","v":"DELETE"}]
[232,{"$f":"IF(Roster!I233=\"no\", Roster!B233, \"DELETE\")","v":"DELETE"}]
[233,{"$f":"IF(Roster!I234=\"no\", Roster!B234, \"DELETE\")","v":"DELETE"}]
[234,{"$f":"IF(Roster!I235=\"no\", Roster!B235, \"DELETE\")","v":"DELETE"}]
[235,{"$f":"IF(Roster!I236=\"no\", Roster!B236, \"DELETE\")","v":"DELETE"}]
[236,{"$f":"IF(Roster!I237=\"no\", Roster!B237, \"DELETE\")","v":"DELETE"}]
[237,{"$f":"IF(Roster!I238=\"no\", Roster!B238, \"DELETE\")","v":"DELETE"}]
[238,{"$f":"IF(Roster!I239=\"no\", Roster!B239, \"DELETE\")","v":"DELETE"}]
[239,{"$f":"IF(Roster!I240=\"no\", Roster!B240, \"DELETE\")","v":"DELETE"}]
[240,{"$f":"IF(Roster!I241=\"no\", Roster!B241, \"DELETE\")","v":"DELETE"}]
[241,{"$f":"IF(Roster!I242=\"no\", Roster!B242, \"DELETE\")","v":"DELETE"}]
[242,{"$f":"IF(Roster!I243=\"no\", Roster!B243, \"DELETE\")","v":"DELETE"}]
[243,{"$f":"IF(Roster!I244=\"no\", Roster!B244, \"DELETE\")","v":"DELETE"}]
[244,{"$f":"IF(Roster!I245=\"no\", Roster!B245, \"DELETE\")","v":"DELETE"}]
[245,{"$f":"IF(Roster!I246=\"no\", Roster!B246, \"DELETE\")","v":"DELETE"}]
[246,{"$f":"IF(Roster!I247=\"no\", Roster!B247, \"DELETE\")","v":"DELETE"}]
[247,{"$f":"IF(Roster!I248=\"no\", Roster!B248, \"DELETE\")","v":"DELETE"}]
[248,{"$f":"IF(Roster!I249=\"no\", Roster!B249, \"DELETE\")","v":"DELETE"}]
[249,{"$f":"IF(Roster!I250=\"no\", Roster!B250, \"DELETE\")","v":"DELETE"}]
[250,{"$f":"IF(Roster!I251=\"no\", Roster!B251, \"DELETE\")","v":"DELETE"}]
[251,{"$f":"IF(Roster!I252=\"no\", Roster!B252, \"DELETE\")","v":"DELETE"}]
[252,{"$f":"IF(Roster!I253=\"no\", Roster!B253, \"DELETE\")","v":"DELETE"}]
[253,{"$f":"IF(Roster!I254=\"no\", Roster!B254, \"DELETE\")","v":"DELETE"}]
[254,{"$f":"IF(Roster!I255=\"no\", Roster!B255, \"DELETE\")","v":"DELETE"}]
[255,{"$f":"IF(Roster!I256=\"no\", Roster!B256, \"DELETE\")","v":"DELETE"}]
[256,{"$f":"IF(Roster!I257=\"no\", Roster!B257, \"DELETE\")","v":"DELETE"}]
[257,{"$f":"IF(Roster!I258=\"no\", Roster!B258, \"DELETE\")","v":"DELETE"}]
[258,{"$f":"IF(Roster!I259=\"no\", Roster!B259, \"DELETE\")","v":"DELETE"}]
[259,{"$f":"IF(Roster!I260=\"no\", Roster!B260, \"DELETE\")","v":"DELETE"}]
[260,{"$f":"IF(Roster!I261=\"no\", Roster!B261, \"DELETE\")","v":"DELETE"}]
[261,{"$f":"IF(Roster!I262=\"no\", Roster!B262, \"DELETE\")","v":"DELETE"}]
[262,{"$f":"IF(Roster!I263=\"no\", Roster!B263, \"DELETE\")","v":"DELETE"}]
[263,{"$f":"IF(Roster!I264=\"no\", Roster!B264, \"DELETE\")","v":"DELETE"}]
[264,{"$f":"IF(Roster!I265=\"no\", Roster!B265, \"DELETE\")","v":"DELETE"}]
[265,{"$f":"IF(Roster!I266=\"no\", Roster!B266, \"DELETE\")","v":"DELETE"}]
[266,{"$f":"IF(Roster!I267=\"no\", Roster!B267, \"DELETE\")","v":"DELETE"}]
[267,{"$f":"IF(Roster!I268=\"no\", Roster!B268, \"DELETE\")","v":"DELETE"}]
[268,{"$f":"IF(Roster!I269=\"no\", Roster!B269, \"DELETE\")","v":"DELETE"}]
[269,{"$f":"IF(Roster!I270=\"no\", Roster!B270, \"DELETE\")","v":"DELETE"}]
[270,{"$f":"IF(Roster!I271=\"no\", Roster!B271, \"DELETE\")","v":"DELETE"}]
[271,{"$f":"IF(Roster!I272=\"no\", Roster!B272, \"DELETE\")","v":"DELETE"}]
[272,{"$f":"IF(Roster!I273=\"no\", Roster!B273, \"DELETE\")","v":"DELETE"}]
[273,{"$f":"IF(Roster!I274=\"no\", Roster!B274, \"DELETE\")","v":"DELETE"}]
[274,{"$f":"IF(Roster!I275=\"no\", Roster!B275, \"DELETE\")","v":"DELETE"}]
[275,{"$f":"IF(Roster!I276=\"no\", Roster!B276, \"DELETE\")","v":"DELETE"}]
[276,{"$f":"IF(Roster!I277=\"no\", Roster!B277, \"DELETE\")","v":"DELETE"}]
[277,{"$f":"IF(Roster!I278=\"no\", Roster!B278, \"DELETE\")","v":"DELETE"}]
[278,{"$f":"IF(Roster!I279=\"no\", Roster!B279, \"DELETE\")","v":"DELETE"}]
[279,{"$f":"IF(Roster!I280=\"no\", Roster!B280, \"DELETE\")","v":"DELETE"}]
[280,{"$f":"IF(Roster!I281=\"no\", Roster!B281, \"DELETE\")","v":"DELETE"}]
[281,{"$f":"IF(Roster!I282=\"no\", Roster!B282, \"DELETE\")","v":"DELETE"}]
[282,{"$f":"IF(Roster!I283=\"no\", Roster!B283, \"DELETE\")","v":"DELETE"}]
[283,{"$f":"IF(Roster!I284=\"no\", Roster!B284, \"DELETE\")","v":"DELETE"}]
[284,{"$f":"IF(Roster!I285=\"no\", Roster!B285, \"DELETE\")","v":"DELETE"}]
[285,{"$f":"IF(Roster!I286=\"no\", Roster!B286, \"DELETE\")","v":"DELETE"}]
[286,{"$f":"IF(Roster!I287=\"no\", Roster!B287, \"DELETE\")","v":"DELETE"}]
[287,{"$f":"IF(Roster!I288=\"no\", Roster!B288, \"DELETE\")","v":"DELETE"}]
[288,{"$f":"IF(Roster!I289=\"no\", Roster!B289, \"DELETE\")","v":"DELETE"}]
[289,{"$f":"IF(Roster!I290=\"no\", Roster!B290, \"DELETE\")","v":"DELETE"}]
[290,{"$f":"IF(Roster!I291=\"no\", Roster!B291, \"DELETE\")","v":"DELETE"}]
[291,{"$f":"IF(Roster!I292=\"no\", Roster!B292, \"DELETE\")","v":"DELETE"}]
[292,{"$f":"IF(Roster!I293=\"no\", Roster!B293, \"DELETE\")","v":"DELETE"}]
[293,{"$f":"IF(Roster!I294=\"no\", Roster!B294, \"DELETE\")","v":"DELETE"}]
[294,{"$f":"IF(Roster!I295=\"no\", Roster!B295, \"DELETE\")","v":"DELETE"}]
[295,{"$f":"IF(Roster!I296=\"no\", Roster!B296, \"DELETE\")","v":"DELETE"}]
[296,{"$f":"IF(Roster!I297=\"no\", Roster!B297, \"DELETE\")","v":"DELETE"}]
[297,{"$f":"IF(Roster!I298=\"no\", Roster!B298, \"DELETE\")","v":"DELETE"}]
[298,{"$f":"IF(Roster!I299=\"no\", Roster!B299, \"DELETE\")","v":"DELETE"}]
[299,{"$f":"IF(Roster!I300=\"no\", Roster!B300, \"DELETE\")","v":"DELETE"}]
[300,{"$f":"IF(Roster!I301=\"no\", Roster!B301, \"DELETE\")","v":"DELETE"}]
[301,{"$f":"IF(Roster!I302=\"no\", Roster!B302, \"DELETE\")","v":"DELETE"}]
[302,{"$f":"IF(Roster!I303=\"no\", Roster!B303, \"DELETE\")","v":"DELETE"}]
[303,{"$f":"IF(Roster!I304=\"no\", Roster!B304, \"DELETE\")","v":"DELETE"}]
[304,{"$f":"IF(Roster!I305=\"no\", Roster!B305, \"DELETE\")","v":"DELETE"}]
[305,{"$f":"IF(Roster!I306=\"no\", Roster!B306, \"DELETE\")","v":"DELETE"}]
[306,{"$f":"IF(Roster!I307=\"no\", Roster!B307, \"DELETE\")","v":"DELETE"}]
[307,{"$f":"IF(Roster!I308=\"no\", Roster!B308, \"DELETE\")","v":"DELETE"}]
[308,{"$f":"IF(Roster!I309=\"no\", Roster!B309, \"DELETE\")","v":"DELETE"}]
[309,{"$f":"IF(Roster!I310=\"no\", Roster!B310, \"DELETE\")","v":"DELETE"}]
[310,{"$f":"IF(Roster!I311=\"no\", Roster!B311, \"DELETE\")","v":"DELETE"}]
[311,{"$f":"IF(Roster!I312=\"no\", Roster!B312, \"DELETE\")","v":"DELETE"}]
[312,{"$f":"IF(Roster!I313=\"no\", Roster!B313, \"DELETE\")","v":"DELETE"}]
[313,{"$f":"IF(Roster!I314=\"no\", Roster!B314, \"DELETE\")","v":"DELETE"}]
[314,{"$f":"IF(Roster!I315=\"no\", Roster!B315, \"DELETE\")","v":"DELETE"}]
[315,{"$f":"IF(Roster!I316=\"no\", Roster!B316, \"DELETE\")","v":"DELETE"}]
[316,{"$f":"IF(Roster!I317=\"no\", Roster!B317, \"DELETE\")","v":"DELETE"}]
[317,{"$f":"IF(Roster!I318=\"no\", Roster!B318, \"DELETE\")","v":"DELETE"}]
[318,{"$f":"IF(Roster!I319=\"no\", Roster!B319, \"DELETE\")","v":"DELETE"}]
[319,{"$f":"IF(Roster!I320=\"no\", Roster!B320, \"DELETE\")","v":"DELETE"}]
[320,{"$f":"IF(Roster!I321=\"no\", Roster!B321, \"DELETE\")","v":"DELETE"}]
[321,{"$f":"IF(Roster!I322=\"no\", Roster!B322, \"DELETE\")","v":"DELETE"}]
[322,{"$f":"IF(Roster!I323=\"no\", Roster!B323, \"DELETE\")","v":"DELETE"}]
[323,{"$f":"IF(Roster!I324=\"no\", Roster!B324, \"DELETE\")","v":"DELETE"}]
[324,{"$f":"IF(Roster!I325=\"no\", Roster!B325, \"DELETE\")","v":"DELETE"}]
[325,{"$f":"IF(Roster!I326=\"no\", Roster!B326, \"DELETE\")","v":"DELETE"}]
[326,{"$f":"IF(Roster!I327=\"no\", Roster!B327, \"DELETE\")","v":"DELETE"}]
[327,{"$f":"IF(Roster!I328=\"no\", Roster!B328, \"DELETE\")","v":"DELETE"}]
[328,{"$f":"IF(Roster!I329=\"no\", Roster!B329, \"DELETE\")","v":"DELETE"}]
[329,{"$f":"IF(Roster!I330=\"no\", Roster!B330, \"DELETE\")","v":"DELETE"}]
[330,{"$f":"IF(Roster!I331=\"no\", Roster!B331, \"DELETE\")","v":"DELETE"}]
[331,{"$f":"IF(Roster!I332=\"no\", Roster!B332, \"DELETE\")","v":"DELETE"}]
[332,{"$f":"IF(Roster!I333=\"no\", Roster!B333, \"DELETE\")","v":"DELETE"}]
[333,{"$f":"IF(Roster!I334=\"no\", Roster!B334, \"DELETE\")","v":"DELETE"}]
[334,{"$f":"IF(Roster!I335=\"no\", Roster!B335, \"DELETE\")","v":"DELETE"}]
[335,{"$f":"IF(Roster!I336=\"no\", Roster!B336, \"DELETE\")","v":"DELETE"}]
[336,{"$f":"IF(Roster!I337=\"no\", Roster!B337, \"DELETE\")","v":"DELETE"}]
[337,{"$f":"IF(Roster!I338=\"no\", Roster!B338, \"DELETE\")","v":"DELETE"}]
[338,{"$f":"IF(Roster!I339=\"no\", Roster!B339, \"DELETE\")","v":"DELETE"}]
[339,{"$f":"IF(Roster!I340=\"no\", Roster!B340, \"DELETE\")","v":"DELETE"}]
[340,{"$f":"IF(Roster!I341=\"no\", Roster!B341, \"DELETE\")","v":"DELETE"}]
[341,{"$f":"IF(Roster!I342=\"no\", Roster!B342, \"DELETE\")","v":"DELETE"}]
[342,{"$f":"IF(Roster!I343=\"no\", Roster!B343, \"DELETE\")","v":"DELETE"}]
[343,{"$f":"IF(Roster!I344=\"no\", Roster!B344, \"DELETE\")","v":"DELETE"}]
[344,{"$f":"IF(Roster!I345=\"no\", Roster!B345, \"DELETE\")","v":"DELETE"}]
[345,{"$f":"IF(Roster!I346=\"no\", Roster!B346, \"DELETE\")","v":"DELETE"}]
[346,{"$f":"IF(Roster!I347=\"no\", Roster!B347, \"DELETE\")","v":"DELETE"}]
[347,{"$f":"IF(Roster!I348=\"no\", Roster!B348, \"DELETE\")","v":"DELETE"}]
[348,{"$f":"IF(Roster!I349=\"no\", Roster!B349, \"DELETE\")","v":"DELETE"}]
[349,{"$f":"IF(Roster!I350=\"no\", Roster!B350, \"DELETE\")","v":"DELETE"}]
[350,{"$f":"IF(Roster!I351=\"no\", Roster!B351, \"DELETE\")","v":"DELETE"}]
[351,{"$f":"IF(Roster!I352=\"no\", Roster!B352, \"DELETE\")","v":"DELETE"}]
[352,{"$f":"IF(Roster!I353=\"no\", Roster!B353, \"DELETE\")","v":"DELETE"}]
[353,{"$f":"IF(Roster!I354=\"no\", Roster!B354, \"DELETE\")","v":"DELETE"}]
[354,{"$f":"IF(Roster!I355=\"no\", Roster!B355, \"DELETE\")","v":"DELETE"}]
[355,{"$f":"IF(Roster!I356=\"no\", Roster!B356, \"DELETE\")","v":"DELETE"}]
[356,{"$f":"IF(Roster!I357=\"no\", Roster!B357, \"DELETE\")","v":"DELETE"}]
[357,{"$f":"IF(Roster!I358=\"no\", Roster!B358, \"DELETE\")","v":"DELETE"}]
[358,{"$f":"IF(Roster!I359=\"no\", Roster!B359, \"DELETE\")","v":"DELETE"}]
[359,{"$f":"IF(Roster!I360=\"no\", Roster!B360, \"DELETE\")","v":"DELETE"}]
[360,{"$f":"IF(Roster!I361=\"no\", Roster!B361, \"DELETE\")","v":"DELETE"}]
[361,{"$f":"IF(Roster!I362=\"no\", Roster!B362, \"DELETE\")","v":"DELETE"}]
[362,{"$f":"IF(Roster!I363=\"no\", Roster!B363, \"DELETE\")","v":"DELETE"}]
[363,{"$f":"IF(Roster!I364=\"no\", Roster!B364, \"DELETE\")","v":"DELETE"}]
[364,{"$f":"IF(Roster!I365=\"no\", Roster!B365, \"DELETE\")","v":"DELETE"}]
[365,{"$f":"IF(Roster!I366=\"no\", Roster!B366, \"DELETE\")","v":"DELETE"}]
[366,{"$f":"IF(Roster!I367=\"no\", Roster!B367, \"DELETE\")","v":"DELETE"}]
[367,{"$f":"IF(Roster!I368=\"no\", Roster!B368, \"DELETE\")","v":"DELETE"}]
[368,{"$f":"IF(Roster!I369=\"no\", Roster!B369, \"DELETE\")","v":"DELETE"}]
[369,{"$f":"IF(Roster!I370=\"no\", Roster!B370, \"DELETE\")","v":"DELETE"}]
[370,{"$f":"IF(Roster!I371=\"no\", Roster!B371, \"DELETE\")","v":"DELETE"}]
[371,{"$f":"IF(Roster!I372=\"no\", Roster!B372, \"DELETE\")","v":"DELETE"}]
[372,{"$f":"IF(Roster!I373=\"no\", Roster!B373, \"DELETE\")","v":"DELETE"}]
[373,{"$f":"IF(Roster!I374=\"no\", Roster!B374, \"DELETE\")","v":"DELETE"}]
[374,{"$f":"IF(Roster!I375=\"no\", Roster!B375, \"DELETE\")","v":"DELETE"}]
[375,{"$f":"IF(Roster!I376=\"no\", Roster!B376, \"DELETE\")","v":"DELETE"}]
[376,{"$f":"IF(Roster!I377=\"no\", Roster!B377, \"DELETE\")","v":"DELETE"}]
[377,{"$f":"IF(Roster!I378=\"no\", Roster!B378, \"DELETE\")","v":"DELETE"}]
[378,{"$f":"IF(Roster!I379=\"no\", Roster!B379, \"DELETE\")","v":"DELETE"}]
[379,{"$f":"IF(Roster!I380=\"no\", Roster!B380, \"DELETE\")","v":"DELETE"}]
[380,{"$f":"IF(Roster!I381=\"no\", Roster!B381, \"DELETE\")","v":"DELETE"}]
[381,{"$f":"IF(Roster!I382=\"no\", Roster!B382, \"DELETE\")","v":"DELETE"}]
[382,{"$f":"IF(Roster!I383=\"no\", Roster!B383, \"DELETE\")","v":"DELETE"}]
[383,{"$f":"IF(Roster!I384=\"no\", Roster!B384, \"DELETE\")","v":"DELETE"}]
[384,{"$f":"IF(Roster!I385=\"no\", Roster!B385, \"DELETE\")","v":"DELETE"}]
[385,{"$f":"IF(Roster!I386=\"no\", Roster!B386, \"DELETE\")","v":"DELETE"}]
[386,{"$f":"IF(Roster!I387=\"no\", Roster!B387, \"DELETE\")","v":"DELETE"}]
[387,{"$f":"IF(Roster!I388=\"no\", Roster!B388, \"DELETE\")","v":"DELETE"}]
[388,{"$f":"IF(Roster!I389=\"no\", Roster!B389, \"DELETE\")","v":"DELETE"}]
[389,{"$f":"IF(Roster!I390=\"no\", Roster!B390, \"DELETE\")","v":"DELETE"}]
[390,{"$f":"IF(Roster!I391=\"no\", Roster!B391, \"DELETE\")","v":"DELETE"}]
[391,{"$f":"IF(Roster!I392=\"no\", Roster!B392, \"DELETE\")","v":"DELETE"}]
[392,{"$f":"IF(Roster!I393=\"no\", Roster!B393, \"DELETE\")","v":"DELETE"}]
[393,{"$f":"IF(Roster!I394=\"no\", Roster!B394, \"DELETE\")","v":"DELETE"}]
[394,{"$f":"IF(Roster!I395=\"no\", Roster!B395, \"DELETE\")","v":"DELETE"}]
[395,{"$f":"IF(Roster!I396=\"no\", Roster!B396, \"DELETE\")","v":"DELETE"}]
[396,{"$f":"IF(Roster!I397=\"no\", Roster!B397, \"DELETE\")","v":"DELETE"}]
[397,{"$f":"IF(Roster!I398=\"no\", Roster!B398, \"DELETE\")","v":"DELETE"}]
[398,{"$f":"IF(Roster!I399=\"no\", Roster!B399, \"DELETE\")","v":"DELETE"}]
[399,{"$f":"IF(Roster!I400=\"no\", Roster!B400, \"DELETE\")","v":"DELETE"}]
[400,{"$f":"IF(Roster!I401=\"no\", Roster!B401, \"DELETE\")","v":"DELETE"}]
[401,{"$f":"IF(Roster!I402=\"no\", Roster!B402, \"DELETE\")","v":"DELETE"}]
[402,{"$f":"IF(Roster!I403=\"no\", Roster!B403, \"DELETE\")","v":"DELETE"}]
[403,{"$f":"IF(Roster!I404=\"no\", Roster!B404, \"DELETE\")","v":"DELETE"}]
[404,{"$f":"IF(Roster!I405=\"no\", Roster!B405, \"DELETE\")","v":"DELETE"}]
[405,{"$f":"IF(Roster!I406=\"no\", Roster!B406, \"DELETE\")","v":"DELETE"}]
[406,{"$f":"IF(Roster!I407=\"no\", Roster!B407, \"DELETE\")","v":"DELETE"}]
[407,{"$f":"IF(Roster!I408=\"no\", Roster!B408, \"DELETE\")","v":"DELETE"}]
[408,{"$f":"IF(Roster!I409=\"no\", Roster!B409, \"DELETE\")","v":"DELETE"}]
[409,{"$f":"IF(Roster!I410=\"no\", Roster!B410, \"DELETE\")","v":"DELETE"}]
[410,{"$f":"IF(Roster!I411=\"no\", Roster!B411, \"DELETE\")","v":"DELETE"}]
[411,{"$f":"IF(Roster!I412=\"no\", Roster!B412, \"DELETE\")","v":"DELETE"}]
[412,{"$f":"IF(Roster!I413=\"no\", Roster!B413, \"DELETE\")","v":"DELETE"}]
[413,{"$f":"IF(Roster!I414=\"no\", Roster!B414, \"DELETE\")","v":"DELETE"}]
[414,{"$f":"IF(Roster!I415=\"no\", Roster!B415, \"DELETE\")","v":"DELETE"}]
[415,{"$f":"IF(Roster!I416=\"no\", Roster!B416, \"DELETE\")","v":"DELETE"}]
[416,{"$f":"IF(Roster!I417=\"no\", Roster!B417, \"DELETE\")","v":"DELETE"}]
[417,{"$f":"IF(Roster!I418=\"no\", Roster!B418, \"DELETE\")","v":"DELETE"}]
[418,{"$f":"IF(Roster!I419=\"no\", Roster!B419, \"DELETE\")","v":"DELETE"}]
[419,{"$f":"IF(Roster!I420=\"no\", Roster!B420, \"DELETE\")","v":"DELETE"}]
[420,{"$f":"IF(Roster!I421=\"no\", Roster!B421, \"DELETE\")","v":"DELETE"}]
[421,{"$f":"IF(Roster!I422=\"no\", Roster!B422, \"DELETE\")","v":"DELETE"}]
[422,{"$f":"IF(Roster!I423=\"no\", Roster!B423, \"DELETE\")","v":"DELETE"}]
[423,{"$f":"IF(Roster!I424=\"no\", Roster!B424, \"DELETE\")","v":"DELETE"}]
[424,{"$f":"IF(Roster!I425=\"no\", Roster!B425, \"DELETE\")","v":"DELETE"}]
[425,{"$f":"IF(Roster!I426=\"no\", Roster!B426, \"DELETE\")","v":"DELETE"}]
[426,{"$f":"IF(Roster!I427=\"no\", Roster!B427, \"DELETE\")","v":"DELETE"}]
[427,{"$f":"IF(Roster!I428=\"no\", Roster!B428, \"DELETE\")","v":"DELETE"}]
[428,{"$f":"IF(Roster!I429=\"no\", Roster!B429, \"DELETE\")","v":"DELETE"}]
[429,{"$f":"IF(Roster!I430=\"no\", Roster!B430, \"DELETE\")","v":"DELETE"}]
[430,{"$f":"IF(Roster!I431=\"no\", Roster!B431, \"DELETE\")","v":"DELETE"}]
[431,{"$f":"IF(Roster!I432=\"no\", Roster!B432, \"DELETE\")","v":"DELETE"}]
[432,{"$f":"IF(Roster!I433=\"no\", Roster!B433, \"DELETE\")","v":"DELETE"}]
[433,{"$f":"IF(Roster!I434=\"no\", Roster!B434, \"DELETE\")","v":"DELETE"}]
[434,{"$f":"IF(Roster!I435=\"no\", Roster!B435, \"DELETE\")","v":"DELETE"}]
[435,{"$f":"IF(Roster!I436=\"no\", Roster!B436, \"DELETE\")","v":"DELETE"}]
[436,{"$f":"IF(Roster!I437=\"no\", Roster!B437, \"DELETE\")","v":"DELETE"}]
[437,{"$f":"IF(Roster!I438=\"no\", Roster!B438, \"DELETE\")","v":"DELETE"}]
[438,{"$f":"IF(Roster!I439=\"no\", Roster!B439, \"DELETE\")","v":"DELETE"}]
[439,{"$f":"IF(Roster!I440=\"no\", Roster!B440, \"DELETE\")","v":"DELETE"}]
[440,{"$f":"IF(Roster!I441=\"no\", Roster!B441, \"DELETE\")","v":"DELETE"}]
[441,{"$f":"IF(Roster!I442=\"no\", Roster!B442, \"DELETE\")","v":"DELETE"}]
[442,{"$f":"IF(Roster!I443=\"no\", Roster!B443, \"DELETE\")","v":"DELETE"}]
[443,{"$f":"IF(Roster!I444=\"no\", Roster!B444, \"DELETE\")","v":"DELETE"}]
[444,{"$f":"IF(Roster!I445=\"no\", Roster!B445, \"DELETE\")","v":"DELETE"}]
[445,{"$f":"IF(Roster!I446=\"no\", Roster!B446, \"DELETE\")","v":"DELETE"}]
[446,{"$f":"IF(Roster!I447=\"no\", Roster!B447, \"DELETE\")","v":"DELETE"}]
[447,{"$f":"IF(Roster!I448=\"no\", Roster!B448, \"DELETE\")","v":"DELETE"}]
[448,{"$f":"IF(Roster!I449=\"no\", Roster!B449, \"DELETE\")","v":"DELETE"}]
[449,{"$f":"IF(Roster!I450=\"no\", Roster!B450, \"DELETE\")","v":"DELETE"}]
[450,{"$f":"IF(Roster!I451=\"no\", Roster!B451, \"DELETE\")","v":"DELETE"}]
[451,{"$f":"IF(Roster!I452=\"no\", Roster!B452, \"DELETE\")","v":"DELETE"}]
[452,{"$f":"IF(Roster!I453=\"no\", Roster!B453, \"DELETE\")","v":"DELETE"}]
[453,{"$f":"IF(Roster!I454=\"no\", Roster!B454, \"DELETE\")","v":"DELETE"}]
[454,{"$f":"IF(Roster!I455=\"no\", Roster!B455, \"DELETE\")","v":"DELETE"}]
[455,{"$f":"IF(Roster!I456=\"no\", Roster!B456, \"DELETE\")","v":"DELETE"}]
[456,{"$f":"IF(Roster!I457=\"no\", Roster!B457, \"DELETE\")","v":"DELETE"}]
[457,{"$f":"IF(Roster!I458=\"no\", Roster!B458, \"DELETE\")","v":"DELETE"}]
[458,{"$f":"IF(Roster!I459=\"no\", Roster!B459, \"DELETE\")","v":"DELETE"}]
[459,{"$f":"IF(Roster!I460=\"no\", Roster!B460, \"DELETE\")","v":"DELETE"}]
[460,{"$f":"IF(Roster!I461=\"no\", Roster!B461, \"DELETE\")","v":"DELETE"}]
[461,{"$f":"IF(Roster!I462=\"no\", Roster!B462, \"DELETE\")","v":"DELETE"}]
[462,{"$f":"IF(Roster!I463=\"no\", Roster!B463, \"DELETE\")","v":"DELETE"}]
[463,{"$f":"IF(Roster!I464=\"no\", Roster!B464, \"DELETE\")","v":"DELETE"}]
[464,{"$f":"IF(Roster!I465=\"no\", Roster!B465, \"DELETE\")","v":"DELETE"}]
[465,{"$f":"IF(Roster!I466=\"no\", Roster!B466, \"DELETE\")","v":"DELETE"}]
[466,{"$f":"IF(Roster!I467=\"no\", Roster!B467, \"DELETE\")","v":"DELETE"}]
[467,{"$f":"IF(Roster!I468=\"no\", Roster!B468, \"DELETE\")","v":"DELETE"}]
[468,{"$f":"IF(Roster!I469=\"no\", Roster!B469, \"DELETE\")","v":"DELETE"}]
[469,{"$f":"IF(Roster!I470=\"no\", Roster!B470, \"DELETE\")","v":"DELETE"}]
[470,{"$f":"IF(Roster!I471=\"no\", Roster!B471, \"DELETE\")","v":"DELETE"}]
[471,{"$f":"IF(Roster!I472=\"no\", Roster!B472, \"DELETE\")","v":"DELETE"}]
[472,{"$f":"IF(Roster!I473=\"no\", Roster!B473, \"DELETE\")","v":"DELETE"}]
[473,{"$f":"IF(Roster!I474=\"no\", Roster!B474, \"DELETE\")","v":"DELETE"}]
[474,{"$f":"IF(Roster!I475=\"no\", Roster!B475, \"DELETE\")","v":"DELETE"}]
[475,{"$f":"IF(Roster!I476=\"no\", Roster!B476, \"DELETE\")","v":"DELETE"}]
[476,{"$f":"IF(Roster!I477=\"no\", Roster!B477, \"DELETE\")","v":"DELETE"}]
[477,{"$f":"IF(Roster!I478=\"no\", Roster!B478, \"DELETE\")","v":"DELETE"}]
[478,{"$f":"IF(Roster!I479=\"no\", Roster!B479, \"DELETE\")","v":"DELETE"}]
[479,{"$f":"IF(Roster!I480=\"no\", Roster!B480, \"DELETE\")","v":"DELETE"}]
[480,{"$f":"IF(Roster!I481=\"no\", Roster!B481, \"DELETE\")","v":"DELETE"}]
[481,{"$f":"IF(Roster!I482=\"no\", Roster!B482, \"DELETE\")","v":"DELETE"}]
[482,{"$f":"IF(Roster!I483=\"no\", Roster!B483, \"DELETE\")","v":"DELETE"}]
[483,{"$f":"IF(Roster!I484=\"no\", Roster!B484, \"DELETE\")","v":"DELETE"}]
[484,{"$f":"IF(Roster!I485=\"no\", Roster!B485, \"DELETE\")","v":"DELETE"}]
[485,{"$f":"IF(Roster!I486=\"no\", Roster!B486, \"DELETE\")","v":"DELETE"}]
[486,{"$f":"IF(Roster!I487=\"no\", Roster!B487, \"DELETE\")","v":"DELETE"}]
[487,{"$f":"IF(Roster!I488=\"no\", Roster!B488, \"DELETE\")","v":"DELETE"}]
[488,{"$f":"IF(Roster!I489=\"no\", Roster!B489, \"DELETE\")","v":"DELETE"}]
[489,{"$f":"IF(Roster!I490=\"no\", Roster!B490, \"DELETE\")","v":"DELETE"}]
[490,{"$f":"IF(Roster!I491=\"no\", Roster!B491, \"DELETE\")","v":"DELETE"}]
[491,{"$f":"IF(Roster!I492=\"no\", Roster!B492, \"DELETE\")","v":"DELETE"}]
[492,{"$f":"IF(Roster!I493=\"no\", Roster!B493, \"DELETE\")","v":"DELETE"}]
[493,{"$f":"IF(Roster!I494=\"no\", Roster!B494, \"DELETE\")","v":"DELETE"}]
[494,{"$f":"IF(Roster!I495=\"no\", Roster!B495, \"DELETE\")","v":"DELETE"}]
[495,{"$f":"IF(Roster!I496=\"no\", Roster!B496, \"DELETE\")","v":"DELETE"}]
[496,{"$f":"IF(Roster!I497=\"no\", Roster!B497, \"DELETE\")","v":"DELETE"}]
[497,{"$f":"IF(Roster!I498=\"no\", Roster!B498, \"DELETE\")","v":"DELETE"}]
[498,{"$f":"IF(Roster!I499=\"no\", Roster!B499, \"DELETE\")","v":"DELETE"}]
[499,{"$f":"IF(Roster!I500=\"no\", Roster!B500, \"DELETE\")","v":"DELETE"}]
[500,{"$f":"IF(Roster!I501=\"no\", Roster!B501, \"DELETE\")","v":"DELETE"}]
[501,{"$f":"IF(Roster!I502=\"no\", Roster!B502, \"DELETE\")","v":"DELETE"}]
[502,{"$f":"IF(Roster!I503=\"no\", Roster!B503, \"DELETE\")","v":"DELETE"}]
[503,{"$f":"IF(Roster!I504=\"no\", Roster!B504, \"DELETE\")","v":"DELETE"}]
[504,{"$f":"IF(Roster!I505=\"no\", Roster!B505, \"DELETE\")","v":"DELETE"}]
[505,{"$f":"IF(Roster!I506=\"no\", Roster!B506, \"DELETE\")","v":"DELETE"}]
[506,{"$f":"IF(Roster!I507=\"no\", Roster!B507, \"DELETE\")","v":"DELETE"}]
[507,{"$f":"IF(Roster!I508=\"no\", Roster!B508, \"DELETE\")","v":"DELETE"}]
[508,{"$f":"IF(Roster!I509=\"no\", Roster!B509, \"DELETE\")","v":"DELETE"}]
[509,{"$f":"IF(Roster!I510=\"no\", Roster!B510, \"DELETE\")","v":"DELETE"}]
[510,{"$f":"IF(Roster!I511=\"no\", Roster!B511, \"DELETE\")","v":"DELETE"}]